{"text_format":"1","workbook":"xlsx","n_sheets":14,"sheets":["Input","Graph選（20歳代）","Graph選（30歳代）","Graph選（40歳代）","Graph選（50歳代）","Graph選（60歳代）","Graph選（70歳代）","Graph（20歳代）","Graph（30歳代）","Graph（40歳代）","Graph（50歳代）","Graph（60歳代）","Graph（70歳代）","Compute"],"not_rendered":{"charts":90,"images":12,"macros":1,"external_links":0,"defined_names":0,"comments":0,"pivot_tables":0},"unopened":[],"bounds":{"document_bytes":16777216,"sheet_cells":100000,"rows_first":2000,"rows_last":500,"rows_between":2000,"halvings":0,"cell_chars":16384,"cell_head_chars":4096},"cells_cut":0,"cells_raw":0,"read":"whole","date_system":"1900"}

{"sheet":"Input","index":0,"n_rows":44,"n_cols":28,"rows_kept":44,"cut":false,"hidden":false,"merged":[[32,5,34,5],[35,1,37,1],[35,5,37,5],[38,1,40,1],[38,5,40,5],[41,1,43,1],[41,5,43,5],[20,5,21,5],[22,0,23,0],[22,5,23,5],[24,0,25,0],[24,5,25,5],[26,0,43,0],[26,1,28,1],[26,5,28,5],[29,1,31,1],[32,1,34,1],[8,0,21,0],[8,1,10,1],[9,5,10,5],[11,1,13,1],[20,1,21,1],[0,0,0,5],[1,0,3,0],[1,3,2,3],[4,0,7,0],[4,1,5,1],[6,1,7,1],[12,5,13,5],[14,1,16,1],[15,5,16,5],[17,1,19,1],[18,5,19,5]]}
["下欄に記入した数値は, グラフ印刷ボタンでICFシートに自動転記されます。"]
["CAT-R\n成績のまとめ","ID",null,null,"実施日",null,null,null,null,null,null,null,null,12]
[null,"氏名",null,"様","検査者",null,null,null,null,null,null,null,null,3]
[null,"年齢",null,"下欄に入力可能",null,"入力範囲",null,null,null,null,null,null,null,"ICFシート(高次脳).xlsm"]
["① Span","Digit \nSpan","forward",null,"桁","0～10"]
[null,null,"backward",null,"桁","0～10",null,"","","","","","","","","","","","","","","","","","","",""]
[null,"Tapping\nSpan","forward",null,"桁","0～10",null,"","","","","","","","","","","","","","","","","","","",""]
[null,null,"backward",null,"桁","0～10"]
["② Cancellation\nand\nDetection　","1) Visual\nCancellation\nⒶ図形 △　","所要時間",null,"sec.","0～210"]
[null,null,"正答率",null,"%","0～100"]
[null,null,"的中率",null,"%"]
[null,"1) Visual\nCancellation\nⒶ図形 ※","所要時間",null,"sec.","0～210"]
[null,null,"正答率",null,"%","0～100"]
[null,null,"的中率",null,"%"]
[null,"1) Visual\nCancellation\nⒸ数字 3 ","所要時間",null,"sec.","0～210"]
[null,null,"正答率",null,"%","0～100",null,null,"","","","","","","","","","","","","","","","","","","",""]
[null,null,"的中率",null,"%"]
[null,"1) Visual\nCancellation\nⒹ仮名 か","所要時間",null,"sec.","0～210"]
[null,null,"正答率",null,"%","0～100"]
[null,null,"的中率",null,"%"]
[null,"2) Auditory\nDetection","正答率",null,"%","0～100"]
[null,null,"的中率",null,"%"]
["③ Memory\nUpdating","3スパン","正答率",null,"%","0～100"]
[null,"4スパン","正答率",null,"%"]
["④ PASAT","2秒条件","正答率",null,"%","0～100"]
[null,"1秒条件","正答率",null,"%"]
["⑤ CPT-2\nContinuus\nPerformance\nTest-2","平均反応時間","SRT課題",null,"m sec.","0.0～800.0"]
[null,null,"X課題",null,"m sec."]
[null,null,"AX課題",null,"m sec."]
[null,"誤反応","SRT課題",null,"回","　4≦異常"]
[null,null,"X課題",null,"回","　10≦異常"]
[null,null,"AX課題",null,"回","　11≦異常"]
[null,"正答率","SRT課題",null,"%","0～100"]
[null,null,"X課題",null,"%"]
[null,null,"AX課題",null,"%"]
[null,"的中率","SRT課題",null,"%","0～100"]
[null,null,"X課題",null,"%"]
[null,null,"AX課題",null,"%"]
[null,"修正正答率","SRT課題",null,"%","0～100"]
[null,null,"X課題",null,"%"]
[null,null,"AX課題",null,"%"]
[null,"変動係数","SRT課題",null,null,"0～30"]
[null,null,"X課題"]
[null,null,"AX課題"]

{"sheet":"Graph選（20歳代）","index":1,"n_rows":50,"n_cols":8,"rows_kept":50,"cut":false,"hidden":false,"merged":[[0,0,0,4],[0,5,0,8],[2,2,2,3],[2,7,2,8],[4,0,5,0],[4,1,5,1],[7,0,8,0],[7,1,8,1],[10,0,11,0],[10,1,11,1],[13,0,14,0],[13,1,14,1],[16,0,17,0],[16,1,17,1],[19,0,20,0],[19,1,20,1],[22,0,23,0],[22,1,23,1],[47,7,47,8],[48,7,48,8],[49,7,49,8],[25,0,26,0],[25,1,26,1],[28,0,29,0],[28,1,29,1],[31,0,33,0],[31,1,33,1],[35,0,41,0],[43,0,45,0],[43,1,45,1],[47,0,49,0],[47,1,49,1]]}
[" CAT-R　プロフィール",null,null,null,null,"健常例20歳代"]
[null,null,null,null,"ID",{"$f":"IF(Input!C2<>\"\",Input!C2,\"\")","v":""},"検査",{"$f":"IF(Input!F3<>\"\",Input!F3,\"\")","v":""}]
["実施日",null,{"$f":"IF(Input!F2<>\"\",Input!F2,\"\")","v":""},null,"氏名",{"$f":"IF(Input!C3<>\"\",Input!C3,\"\")","v":""},"様",{"$f":"IF(Input!C4<>\"\",Input!C4,\"\")","v":""}]
[null,null,null,null,null,"平均±",1,"標準偏差"]
["Digit \nSpan",null,"forward",{"$f":"IF(Input!D5<>\"\",Input!D5,\"\")","v":""},"桁"]
[null,null,"backward",{"$f":"IF(Input!D6<>\"\",Input!D6,\"\")","v":""},"桁"]
[]
["Tapping\nSpan",null,"forward",{"$f":"IF(Input!D7<>\"\",Input!D7,\"\")","v":""},"桁"]
[null,null,"backward",{"$f":"IF(Input!D8<>\"\",Input!D8,\"\")","v":""},"桁"]
[]
["Visual\nCancellation\nⒶ 図形△",null,"正答率",{"$f":"IF(Input!D10<>\"\",Input!D10,\"\")","v":""},"％"]
[null,null,"的中率",{"$f":"IF(Input!D11<>\"\",Input!D11,\"\")","v":""},"％"]
[]
["Visual\nCancellation\nⒷ 図形※",null,"正答率",{"$f":"IF(Input!D13<>\"\",Input!D13,\"\")","v":""},"％"]
[null,null,"的中率",{"$f":"IF(Input!D14<>\"\",Input!D14,\"\")","v":""},"％"]
[]
["Visual\nCancellation\nⒸ 数字 3",null,"正答率",{"$f":"IF(Input!D16<>\"\",Input!D16,\"\")","v":""},"％"]
[null,null,"的中率",{"$f":"IF(Input!D17<>\"\",Input!D17,\"\")","v":""},"％"]
[]
["Visual\nCancellation\nⒹ 仮名 か",null,"正答率",{"$f":"IF(Input!D19<>\"\",Input!D19,\"\")","v":""},"％"]
[null,null,"的中率",{"$f":"IF(Input!D20<>\"\",Input!D20,\"\")","v":""},"％"]
[]
["Auditory\nDetection",null,"正答率",{"$f":"IF(Input!D21<>\"\",Input!D21,\"\")","v":""},"％"]
[null,null,"的中率",{"$f":"IF(Input!D22<>\"\",Input!D22,\"\")","v":""},"％"]
[]
["Memory\nUpdating",null,"3スパン 正答率",{"$f":"IF(Input!D23<>\"\",Input!D23,\"\")","v":""},"％"]
[null,null,"4スパン 正答率",{"$f":"IF(Input!D24<>\"\",Input!D24,\"\")","v":""},"％"]
[]
["PASAT",null,"2秒条件 正答率",{"$f":"IF(Input!D25<>\"\",Input!D25,\"\")","v":""},"％"]
[null,null,"1秒条件 正答率",{"$f":"IF(Input!D26<>\"\",Input!D26,\"\")","v":""},"％"]
[]
["CPT-2\n正答率",null,"SRT",{"$f":"IF(Input!D33<>\"\",Input!D33,\"\")","v":""},"％"]
[null,null,"X",{"$f":"IF(Input!D34<>\"\",Input!D34,\"\")","v":""},"％"]
[null,null,"AX",{"$f":"IF(Input!D35<>\"\",Input!D35,\"\")","v":""},"％"]
[]
["Visual\nCancellation\n所要時間",null,"Ⓐ 図形△",{"$f":"IF(Input!D9<>\"\",Input!D9,\"\")","v":""},"sec."]
[]
[null,null,"Ⓑ 図形※",{"$f":"IF(Input!D12<>\"\",Input!D12,\"\")","v":""},"sec."]
[]
[null,null,"Ⓒ 数字 3",{"$f":"IF(Input!D15<>\"\",Input!D15,\"\")","v":""},"sec."]
[]
[null,null,"Ⓓ 仮名 か",{"$f":"IF(Input!D18<>\"\",Input!D18,\"\")","v":""},"sec."]
[]
["CPT-2\n平均反応時間",null,"SRT",{"$f":"IF(Input!D27<>\"\",Input!D27,\"\")","v":""},"msec."]
[null,null,"X",{"$f":"IF(Input!D28<>\"\",Input!D28,\"\")","v":""},"msec."]
[null,null,"AX",{"$f":"IF(Input!D29<>\"\",Input!D29,\"\")","v":""},"msec."]
[]
["CPT-2\n誤反応",null,"SRT",{"$f":"IF(Input!D30<>\"\",Input!D30,\"\")","v":""},"回",null,null,{"$f":"IF(D48=\"\",\"\",IF(ISNUMBER(D48)=FALSE,\"\",(IF(D48>=4,\"異常\",\"正常\"))))","v":""}]
[null,null,"X",{"$f":"IF(Input!D31<>\"\",Input!D31,\"\")","v":""},"回",null,null,{"$f":"IF(D49=\"\",\"\",IF(ISNUMBER(D49)=FALSE,\"\",(IF(D49>=10,\"異常\",\"正常\"))))","v":""}]
[null,null,"AX",{"$f":"IF(Input!D32<>\"\",Input!D32,\"\")","v":""},"回",null,null,{"$f":"IF(D50=\"\",\"\",IF(ISNUMBER(D50)=FALSE,\"\",(IF(D50>=11,\"異常\",\"正常\"))))","v":""}]

{"sheet":"Graph選（30歳代）","index":2,"n_rows":50,"n_cols":8,"rows_kept":50,"cut":false,"hidden":false,"merged":[[47,7,47,8],[48,7,48,8],[49,7,49,8],[25,0,26,0],[25,1,26,1],[28,0,29,0],[28,1,29,1],[31,0,33,0],[31,1,33,1],[35,0,41,0],[43,0,45,0],[43,1,45,1],[47,0,49,0],[47,1,49,1],[16,0,17,0],[16,1,17,1],[19,0,20,0],[19,1,20,1],[22,0,23,0],[22,1,23,1],[7,0,8,0],[7,1,8,1],[10,0,11,0],[10,1,11,1],[13,0,14,0],[13,1,14,1],[0,0,0,4],[0,5,0,8],[2,2,2,3],[2,7,2,8],[4,0,5,0],[4,1,5,1]]}
[" CAT-R　プロフィール",null,null,null,null,"健常例30歳代"]
[null,null,null,null,"ID",{"$f":"IF(Input!C2<>\"\",Input!C2,\"\")","v":""},"検査",{"$f":"IF(Input!F3<>\"\",Input!F3,\"\")","v":""}]
["実施日",null,{"$f":"IF(Input!F2<>\"\",Input!F2,\"\")","v":""},null,"氏名",{"$f":"IF(Input!C3<>\"\",Input!C3,\"\")","v":""},"様",{"$f":"IF(Input!C4<>\"\",Input!C4,\"\")","v":""}]
[null,null,null,null,null,"平均±",1,"標準偏差"]
["Digit \nSpan",null,"forward",{"$f":"IF(Input!D5<>\"\",Input!D5,\"\")","v":""},"桁"]
[null,null,"backward",{"$f":"IF(Input!D6<>\"\",Input!D6,\"\")","v":""},"桁"]
[]
["Tapping\nSpan",null,"forward",{"$f":"IF(Input!D7<>\"\",Input!D7,\"\")","v":""},"桁"]
[null,null,"backward",{"$f":"IF(Input!D8<>\"\",Input!D8,\"\")","v":""},"桁"]
[]
["Visual\nCancellation\nⒶ 図形△",null,"正答率",{"$f":"IF(Input!D10<>\"\",Input!D10,\"\")","v":""},"％"]
[null,null,"的中率",{"$f":"IF(Input!D11<>\"\",Input!D11,\"\")","v":""},"％"]
[]
["Visual\nCancellation\nⒷ 図形※",null,"正答率",{"$f":"IF(Input!D13<>\"\",Input!D13,\"\")","v":""},"％"]
[null,null,"的中率",{"$f":"IF(Input!D14<>\"\",Input!D14,\"\")","v":""},"％"]
[]
["Visual\nCancellation\nⒸ 数字 3",null,"正答率",{"$f":"IF(Input!D16<>\"\",Input!D16,\"\")","v":""},"％"]
[null,null,"的中率",{"$f":"IF(Input!D17<>\"\",Input!D17,\"\")","v":""},"％"]
[]
["Visual\nCancellation\nⒹ 仮名 か",null,"正答率",{"$f":"IF(Input!D19<>\"\",Input!D19,\"\")","v":""},"％"]
[null,null,"的中率",{"$f":"IF(Input!D20<>\"\",Input!D20,\"\")","v":""},"％"]
[]
["Auditory\nDetection",null,"正答率",{"$f":"IF(Input!D21<>\"\",Input!D21,\"\")","v":""},"％"]
[null,null,"的中率",{"$f":"IF(Input!D22<>\"\",Input!D22,\"\")","v":""},"％"]
[]
["Memory\nUpdating",null,"3スパン 正答率",{"$f":"IF(Input!D23<>\"\",Input!D23,\"\")","v":""},"％"]
[null,null,"4スパン 正答率",{"$f":"IF(Input!D24<>\"\",Input!D24,\"\")","v":""},"％"]
[]
["PASAT",null,"2秒条件 正答率",{"$f":"IF(Input!D25<>\"\",Input!D25,\"\")","v":""},"％"]
[null,null,"1秒条件 正答率",{"$f":"IF(Input!D26<>\"\",Input!D26,\"\")","v":""},"％"]
[]
["CPT-2\n正答率",null,"SRT",{"$f":"IF(Input!D33<>\"\",Input!D33,\"\")","v":""},"％"]
[null,null,"X",{"$f":"IF(Input!D34<>\"\",Input!D34,\"\")","v":""},"％"]
[null,null,"AX",{"$f":"IF(Input!D35<>\"\",Input!D35,\"\")","v":""},"％"]
[]
["Visual\nCancellation\n所要時間",null,"Ⓐ 図形△",{"$f":"IF(Input!D9<>\"\",Input!D9,\"\")","v":""},"sec."]
[]
[null,null,"Ⓑ 図形※",{"$f":"IF(Input!D12<>\"\",Input!D12,\"\")","v":""},"sec."]
[]
[null,null,"Ⓒ 数字 3",{"$f":"IF(Input!D15<>\"\",Input!D15,\"\")","v":""},"sec."]
[]
[null,null,"Ⓓ 仮名 か",{"$f":"IF(Input!D18<>\"\",Input!D18,\"\")","v":""},"sec."]
[]
["CPT-2\n平均反応時間",null,"SRT",{"$f":"IF(Input!D27<>\"\",Input!D27,\"\")","v":""},"msec."]
[null,null,"X",{"$f":"IF(Input!D28<>\"\",Input!D28,\"\")","v":""},"msec."]
[null,null,"AX",{"$f":"IF(Input!D29<>\"\",Input!D29,\"\")","v":""},"msec."]
[]
["CPT-2\n誤反応",null,"SRT",{"$f":"IF(Input!D30<>\"\",Input!D30,\"\")","v":""},"回",null,null,{"$f":"IF(D48=\"\",\"\",IF(ISNUMBER(D48)=FALSE,\"\",(IF(D48>=4,\"異常\",\"正常\"))))","v":""}]
[null,null,"X",{"$f":"IF(Input!D31<>\"\",Input!D31,\"\")","v":""},"回",null,null,{"$f":"IF(D49=\"\",\"\",IF(ISNUMBER(D49)=FALSE,\"\",(IF(D49>=10,\"異常\",\"正常\"))))","v":""}]
[null,null,"AX",{"$f":"IF(Input!D32<>\"\",Input!D32,\"\")","v":""},"回",null,null,{"$f":"IF(D50=\"\",\"\",IF(ISNUMBER(D50)=FALSE,\"\",(IF(D50>=11,\"異常\",\"正常\"))))","v":""}]

{"sheet":"Graph選（40歳代）","index":3,"n_rows":50,"n_cols":8,"rows_kept":50,"cut":false,"hidden":false,"merged":[[47,7,47,8],[48,7,48,8],[49,7,49,8],[25,0,26,0],[25,1,26,1],[28,0,29,0],[28,1,29,1],[31,0,33,0],[31,1,33,1],[35,0,41,0],[43,0,45,0],[43,1,45,1],[47,0,49,0],[47,1,49,1],[16,0,17,0],[16,1,17,1],[19,0,20,0],[19,1,20,1],[22,0,23,0],[22,1,23,1],[7,0,8,0],[7,1,8,1],[10,0,11,0],[10,1,11,1],[13,0,14,0],[13,1,14,1],[0,0,0,4],[0,5,0,8],[2,2,2,3],[2,7,2,8],[4,0,5,0],[4,1,5,1]]}
[" CAT-R　プロフィール",null,null,null,null,"健常例40歳代"]
[null,null,null,null,"ID",{"$f":"IF(Input!C2<>\"\",Input!C2,\"\")","v":""},"検査",{"$f":"IF(Input!F3<>\"\",Input!F3,\"\")","v":""}]
["実施日",null,{"$f":"IF(Input!F2<>\"\",Input!F2,\"\")","v":""},null,"氏名",{"$f":"IF(Input!C3<>\"\",Input!C3,\"\")","v":""},"様",{"$f":"IF(Input!C4<>\"\",Input!C4,\"\")","v":""}]
[null,null,null,null,null,"平均±",1,"標準偏差"]
["Digit \nSpan",null,"forward",{"$f":"IF(Input!D5<>\"\",Input!D5,\"\")","v":""},"桁"]
[null,null,"backward",{"$f":"IF(Input!D6<>\"\",Input!D6,\"\")","v":""},"桁"]
[]
["Tapping\nSpan",null,"forward",{"$f":"IF(Input!D7<>\"\",Input!D7,\"\")","v":""},"桁"]
[null,null,"backward",{"$f":"IF(Input!D8<>\"\",Input!D8,\"\")","v":""},"桁"]
[]
["Visual\nCancellation\nⒶ 図形△",null,"正答率",{"$f":"IF(Input!D10<>\"\",Input!D10,\"\")","v":""},"％"]
[null,null,"的中率",{"$f":"IF(Input!D11<>\"\",Input!D11,\"\")","v":""},"％"]
[]
["Visual\nCancellation\nⒷ 図形※",null,"正答率",{"$f":"IF(Input!D13<>\"\",Input!D13,\"\")","v":""},"％"]
[null,null,"的中率",{"$f":"IF(Input!D14<>\"\",Input!D14,\"\")","v":""},"％"]
[]
["Visual\nCancellation\nⒸ 数字 3",null,"正答率",{"$f":"IF(Input!D16<>\"\",Input!D16,\"\")","v":""},"％"]
[null,null,"的中率",{"$f":"IF(Input!D17<>\"\",Input!D17,\"\")","v":""},"％"]
[]
["Visual\nCancellation\nⒹ 仮名 か",null,"正答率",{"$f":"IF(Input!D19<>\"\",Input!D19,\"\")","v":""},"％"]
[null,null,"的中率",{"$f":"IF(Input!D20<>\"\",Input!D20,\"\")","v":""},"％"]
[]
["Auditory\nDetection",null,"正答率",{"$f":"IF(Input!D21<>\"\",Input!D21,\"\")","v":""},"％"]
[null,null,"的中率",{"$f":"IF(Input!D22<>\"\",Input!D22,\"\")","v":""},"％"]
[]
["Memory\nUpdating",null,"3スパン 正答率",{"$f":"IF(Input!D23<>\"\",Input!D23,\"\")","v":""},"％"]
[null,null,"4スパン 正答率",{"$f":"IF(Input!D24<>\"\",Input!D24,\"\")","v":""},"％"]
[]
["PASAT",null,"2秒条件 正答率",{"$f":"IF(Input!D25<>\"\",Input!D25,\"\")","v":""},"％"]
[null,null,"1秒条件 正答率",{"$f":"IF(Input!D26<>\"\",Input!D26,\"\")","v":""},"％"]
[]
["CPT-2\n正答率",null,"SRT",{"$f":"IF(Input!D33<>\"\",Input!D33,\"\")","v":""},"％"]
[null,null,"X",{"$f":"IF(Input!D34<>\"\",Input!D34,\"\")","v":""},"％"]
[null,null,"AX",{"$f":"IF(Input!D35<>\"\",Input!D35,\"\")","v":""},"％"]
[]
["Visual\nCancellation\n所要時間",null,"Ⓐ 図形△",{"$f":"IF(Input!D9<>\"\",Input!D9,\"\")","v":""},"sec."]
[]
[null,null,"Ⓑ 図形※",{"$f":"IF(Input!D12<>\"\",Input!D12,\"\")","v":""},"sec."]
[]
[null,null,"Ⓒ 数字 3",{"$f":"IF(Input!D15<>\"\",Input!D15,\"\")","v":""},"sec."]
[]
[null,null,"Ⓓ 仮名 か",{"$f":"IF(Input!D18<>\"\",Input!D18,\"\")","v":""},"sec."]
[]
["CPT-2\n平均反応時間",null,"SRT",{"$f":"IF(Input!D27<>\"\",Input!D27,\"\")","v":""},"msec."]
[null,null,"X",{"$f":"IF(Input!D28<>\"\",Input!D28,\"\")","v":""},"msec."]
[null,null,"AX",{"$f":"IF(Input!D29<>\"\",Input!D29,\"\")","v":""},"msec."]
[]
["CPT-2\n誤反応",null,"SRT",{"$f":"IF(Input!D30<>\"\",Input!D30,\"\")","v":""},"回",null,null,{"$f":"IF(D48=\"\",\"\",IF(ISNUMBER(D48)=FALSE,\"\",(IF(D48>=4,\"異常\",\"正常\"))))","v":""}]
[null,null,"X",{"$f":"IF(Input!D31<>\"\",Input!D31,\"\")","v":""},"回",null,null,{"$f":"IF(D49=\"\",\"\",IF(ISNUMBER(D49)=FALSE,\"\",(IF(D49>=10,\"異常\",\"正常\"))))","v":""}]
[null,null,"AX",{"$f":"IF(Input!D32<>\"\",Input!D32,\"\")","v":""},"回",null,null,{"$f":"IF(D50=\"\",\"\",IF(ISNUMBER(D50)=FALSE,\"\",(IF(D50>=11,\"異常\",\"正常\"))))","v":""}]

{"sheet":"Graph選（50歳代）","index":4,"n_rows":50,"n_cols":8,"rows_kept":50,"cut":false,"hidden":false,"merged":[[47,7,47,8],[48,7,48,8],[49,7,49,8],[25,0,26,0],[25,1,26,1],[28,0,29,0],[28,1,29,1],[31,0,33,0],[31,1,33,1],[35,0,41,0],[43,0,45,0],[43,1,45,1],[47,0,49,0],[47,1,49,1],[16,0,17,0],[16,1,17,1],[19,0,20,0],[19,1,20,1],[22,0,23,0],[22,1,23,1],[7,0,8,0],[7,1,8,1],[10,0,11,0],[10,1,11,1],[13,0,14,0],[13,1,14,1],[0,0,0,4],[0,5,0,8],[2,2,2,3],[2,7,2,8],[4,0,5,0],[4,1,5,1]]}
[" CAT-R　プロフィール",null,null,null,null,"健常例50歳代"]
[null,null,null,null,"ID",{"$f":"IF(Input!C2<>\"\",Input!C2,\"\")","v":""},"検査",{"$f":"IF(Input!F3<>\"\",Input!F3,\"\")","v":""}]
["実施日",null,{"$f":"IF(Input!F2<>\"\",Input!F2,\"\")","v":""},null,"氏名",{"$f":"IF(Input!C3<>\"\",Input!C3,\"\")","v":""},"様",{"$f":"IF(Input!C4<>\"\",Input!C4,\"\")","v":""}]
[null,null,null,null,null,"平均±",1,"標準偏差"]
["Digit \nSpan",null,"forward",{"$f":"IF(Input!D5<>\"\",Input!D5,\"\")","v":""},"桁"]
[null,null,"backward",{"$f":"IF(Input!D6<>\"\",Input!D6,\"\")","v":""},"桁"]
[]
["Tapping\nSpan",null,"forward",{"$f":"IF(Input!D7<>\"\",Input!D7,\"\")","v":""},"桁"]
[null,null,"backward",{"$f":"IF(Input!D8<>\"\",Input!D8,\"\")","v":""},"桁"]
[]
["Visual\nCancellation\nⒶ 図形△",null,"正答率",{"$f":"IF(Input!D10<>\"\",Input!D10,\"\")","v":""},"％"]
[null,null,"的中率",{"$f":"IF(Input!D11<>\"\",Input!D11,\"\")","v":""},"％"]
[]
["Visual\nCancellation\nⒷ 図形※",null,"正答率",{"$f":"IF(Input!D13<>\"\",Input!D13,\"\")","v":""},"％"]
[null,null,"的中率",{"$f":"IF(Input!D14<>\"\",Input!D14,\"\")","v":""},"％"]
[]
["Visual\nCancellation\nⒸ 数字 3",null,"正答率",{"$f":"IF(Input!D16<>\"\",Input!D16,\"\")","v":""},"％"]
[null,null,"的中率",{"$f":"IF(Input!D17<>\"\",Input!D17,\"\")","v":""},"％"]
[]
["Visual\nCancellation\nⒹ 仮名 か",null,"正答率",{"$f":"IF(Input!D19<>\"\",Input!D19,\"\")","v":""},"％"]
[null,null,"的中率",{"$f":"IF(Input!D20<>\"\",Input!D20,\"\")","v":""},"％"]
[]
["Auditory\nDetection",null,"正答率",{"$f":"IF(Input!D21<>\"\",Input!D21,\"\")","v":""},"％"]
[null,null,"的中率",{"$f":"IF(Input!D22<>\"\",Input!D22,\"\")","v":""},"％"]
[]
["Memory\nUpdating",null,"3スパン 正答率",{"$f":"IF(Input!D23<>\"\",Input!D23,\"\")","v":""},"％"]
[null,null,"4スパン 正答率",{"$f":"IF(Input!D24<>\"\",Input!D24,\"\")","v":""},"％"]
[]
["PASAT",null,"2秒条件 正答率",{"$f":"IF(Input!D25<>\"\",Input!D25,\"\")","v":""},"％"]
[null,null,"1秒条件 正答率",{"$f":"IF(Input!D26<>\"\",Input!D26,\"\")","v":""},"％"]
[]
["CPT-2\n正答率",null,"SRT",{"$f":"IF(Input!D33<>\"\",Input!D33,\"\")","v":""},"％"]
[null,null,"X",{"$f":"IF(Input!D34<>\"\",Input!D34,\"\")","v":""},"％"]
[null,null,"AX",{"$f":"IF(Input!D35<>\"\",Input!D35,\"\")","v":""},"％"]
[]
["Visual\nCancellation\n所要時間",null,"Ⓐ 図形△",{"$f":"IF(Input!D9<>\"\",Input!D9,\"\")","v":""},"sec."]
[]
[null,null,"Ⓑ 図形※",{"$f":"IF(Input!D12<>\"\",Input!D12,\"\")","v":""},"sec."]
[]
[null,null,"Ⓒ 数字 3",{"$f":"IF(Input!D15<>\"\",Input!D15,\"\")","v":""},"sec."]
[]
[null,null,"Ⓓ 仮名 か",{"$f":"IF(Input!D18<>\"\",Input!D18,\"\")","v":""},"sec."]
[]
["CPT-2\n平均反応時間",null,"SRT",{"$f":"IF(Input!D27<>\"\",Input!D27,\"\")","v":""},"msec."]
[null,null,"X",{"$f":"IF(Input!D28<>\"\",Input!D28,\"\")","v":""},"msec."]
[null,null,"AX",{"$f":"IF(Input!D29<>\"\",Input!D29,\"\")","v":""},"msec."]
[]
["CPT-2\n誤反応",null,"SRT",{"$f":"IF(Input!D30<>\"\",Input!D30,\"\")","v":""},"回",null,null,{"$f":"IF(D48=\"\",\"\",IF(ISNUMBER(D48)=FALSE,\"\",(IF(D48>=4,\"異常\",\"正常\"))))","v":""}]
[null,null,"X",{"$f":"IF(Input!D31<>\"\",Input!D31,\"\")","v":""},"回",null,null,{"$f":"IF(D49=\"\",\"\",IF(ISNUMBER(D49)=FALSE,\"\",(IF(D49>=10,\"異常\",\"正常\"))))","v":""}]
[null,null,"AX",{"$f":"IF(Input!D32<>\"\",Input!D32,\"\")","v":""},"回",null,null,{"$f":"IF(D50=\"\",\"\",IF(ISNUMBER(D50)=FALSE,\"\",(IF(D50>=11,\"異常\",\"正常\"))))","v":""}]

{"sheet":"Graph選（60歳代）","index":5,"n_rows":50,"n_cols":8,"rows_kept":50,"cut":false,"hidden":false,"merged":[[0,0,0,4],[0,5,0,8],[2,2,2,3],[2,7,2,8],[4,0,5,0],[4,1,5,1],[7,0,8,0],[7,1,8,1],[10,0,11,0],[10,1,11,1],[13,0,14,0],[13,1,14,1],[16,0,17,0],[16,1,17,1],[19,0,20,0],[19,1,20,1],[22,0,23,0],[22,1,23,1],[47,7,47,8],[48,7,48,8],[49,7,49,8],[25,0,26,0],[25,1,26,1],[28,0,29,0],[28,1,29,1],[31,0,33,0],[31,1,33,1],[35,0,41,0],[43,0,45,0],[43,1,45,1],[47,0,49,0],[47,1,49,1]]}
[" CAT-R　プロフィール",null,null,null,null,"健常例60歳代"]
[null,null,null,null,"ID",{"$f":"IF(Input!C2<>\"\",Input!C2,\"\")","v":""},"検査",{"$f":"IF(Input!F3<>\"\",Input!F3,\"\")","v":""}]
["実施日",null,{"$f":"IF(Input!F2<>\"\",Input!F2,\"\")","v":""},null,"氏名",{"$f":"IF(Input!C3<>\"\",Input!C3,\"\")","v":""},"様",{"$f":"IF(Input!C4<>\"\",Input!C4,\"\")","v":""}]
[null,null,null,null,null,"平均±",1,"標準偏差"]
["Digit \nSpan",null,"forward",{"$f":"IF(Input!D5<>\"\",Input!D5,\"\")","v":""},"桁"]
[null,null,"backward",{"$f":"IF(Input!D6<>\"\",Input!D6,\"\")","v":""},"桁"]
[]
["Tapping\nSpan",null,"forward",{"$f":"IF(Input!D7<>\"\",Input!D7,\"\")","v":""},"桁"]
[null,null,"backward",{"$f":"IF(Input!D8<>\"\",Input!D8,\"\")","v":""},"桁"]
[]
["Visual\nCancellation\nⒶ 図形△",null,"正答率",{"$f":"IF(Input!D10<>\"\",Input!D10,\"\")","v":""},"％"]
[null,null,"的中率",{"$f":"IF(Input!D11<>\"\",Input!D11,\"\")","v":""},"％"]
[]
["Visual\nCancellation\nⒷ 図形※",null,"正答率",{"$f":"IF(Input!D13<>\"\",Input!D13,\"\")","v":""},"％"]
[null,null,"的中率",{"$f":"IF(Input!D14<>\"\",Input!D14,\"\")","v":""},"％"]
[]
["Visual\nCancellation\nⒸ 数字 3",null,"正答率",{"$f":"IF(Input!D16<>\"\",Input!D16,\"\")","v":""},"％"]
[null,null,"的中率",{"$f":"IF(Input!D17<>\"\",Input!D17,\"\")","v":""},"％"]
[]
["Visual\nCancellation\nⒹ 仮名 か",null,"正答率",{"$f":"IF(Input!D19<>\"\",Input!D19,\"\")","v":""},"％"]
[null,null,"的中率",{"$f":"IF(Input!D20<>\"\",Input!D20,\"\")","v":""},"％"]
[]
["Auditory\nDetection",null,"正答率",{"$f":"IF(Input!D21<>\"\",Input!D21,\"\")","v":""},"％"]
[null,null,"的中率",{"$f":"IF(Input!D22<>\"\",Input!D22,\"\")","v":""},"％"]
[]
["Memory\nUpdating",null,"3スパン 正答率",{"$f":"IF(Input!D23<>\"\",Input!D23,\"\")","v":""},"％"]
[null,null,"4スパン 正答率",{"$f":"IF(Input!D24<>\"\",Input!D24,\"\")","v":""},"％"]
[]
["PASAT",null,"2秒条件 正答率",{"$f":"IF(Input!D25<>\"\",Input!D25,\"\")","v":""},"％"]
[null,null,"1秒条件 正答率",{"$f":"IF(Input!D26<>\"\",Input!D26,\"\")","v":""},"％"]
[]
["CPT-2\n正答率",null,"SRT",{"$f":"IF(Input!D33<>\"\",Input!D33,\"\")","v":""},"％"]
[null,null,"X",{"$f":"IF(Input!D34<>\"\",Input!D34,\"\")","v":""},"％"]
[null,null,"AX",{"$f":"IF(Input!D35<>\"\",Input!D35,\"\")","v":""},"％"]
[]
["Visual\nCancellation\n所要時間",null,"Ⓐ 図形△",{"$f":"IF(Input!D9<>\"\",Input!D9,\"\")","v":""},"sec."]
[]
[null,null,"Ⓑ 図形※",{"$f":"IF(Input!D12<>\"\",Input!D12,\"\")","v":""},"sec."]
[]
[null,null,"Ⓒ 数字 3",{"$f":"IF(Input!D15<>\"\",Input!D15,\"\")","v":""},"sec."]
[]
[null,null,"Ⓓ 仮名 か",{"$f":"IF(Input!D18<>\"\",Input!D18,\"\")","v":""},"sec."]
[]
["CPT-2\n平均反応時間",null,"SRT",{"$f":"IF(Input!D27<>\"\",Input!D27,\"\")","v":""},"msec."]
[null,null,"X",{"$f":"IF(Input!D28<>\"\",Input!D28,\"\")","v":""},"msec."]
[null,null,"AX",{"$f":"IF(Input!D29<>\"\",Input!D29,\"\")","v":""},"msec."]
[]
["CPT-2\n誤反応",null,"SRT",{"$f":"IF(Input!D30<>\"\",Input!D30,\"\")","v":""},"回",null,null,{"$f":"IF(D48=\"\",\"\",IF(ISNUMBER(D48)=FALSE,\"\",(IF(D48>=4,\"異常\",\"正常\"))))","v":""}]
[null,null,"X",{"$f":"IF(Input!D31<>\"\",Input!D31,\"\")","v":""},"回",null,null,{"$f":"IF(D49=\"\",\"\",IF(ISNUMBER(D49)=FALSE,\"\",(IF(D49>=10,\"異常\",\"正常\"))))","v":""}]
[null,null,"AX",{"$f":"IF(Input!D32<>\"\",Input!D32,\"\")","v":""},"回",null,null,{"$f":"IF(D50=\"\",\"\",IF(ISNUMBER(D50)=FALSE,\"\",(IF(D50>=11,\"異常\",\"正常\"))))","v":""}]

{"sheet":"Graph選（70歳代）","index":6,"n_rows":50,"n_cols":8,"rows_kept":50,"cut":false,"hidden":false,"merged":[[0,0,0,4],[0,5,0,8],[2,2,2,3],[2,7,2,8],[4,0,5,0],[4,1,5,1],[7,0,8,0],[7,1,8,1],[10,0,11,0],[10,1,11,1],[13,0,14,0],[13,1,14,1],[16,0,17,0],[16,1,17,1],[19,0,20,0],[19,1,20,1],[22,0,23,0],[22,1,23,1],[47,7,47,8],[48,7,48,8],[49,7,49,8],[25,0,26,0],[25,1,26,1],[28,0,29,0],[28,1,29,1],[31,0,33,0],[31,1,33,1],[35,0,41,0],[43,0,45,0],[43,1,45,1],[47,0,49,0],[47,1,49,1]]}
[" CAT-R　プロフィール",null,null,null,null,"健常例70歳代"]
[null,null,null,null,"ID",{"$f":"IF(Input!C2<>\"\",Input!C2,\"\")","v":""},"検査",{"$f":"IF(Input!F3<>\"\",Input!F3,\"\")","v":""}]
["実施日",null,{"$f":"IF(Input!F2<>\"\",Input!F2,\"\")","v":""},null,"氏名",{"$f":"IF(Input!C3<>\"\",Input!C3,\"\")","v":""},"様",{"$f":"IF(Input!C4<>\"\",Input!C4,\"\")","v":""}]
[null,null,null,null,null,"平均±",1,"標準偏差"]
["Digit \nSpan",null,"forward",{"$f":"IF(Input!D5<>\"\",Input!D5,\"\")","v":""},"桁"]
[null,null,"backward",{"$f":"IF(Input!D6<>\"\",Input!D6,\"\")","v":""},"桁"]
[]
["Tapping\nSpan",null,"forward",{"$f":"IF(Input!D7<>\"\",Input!D7,\"\")","v":""},"桁"]
[null,null,"backward",{"$f":"IF(Input!D8<>\"\",Input!D8,\"\")","v":""},"桁"]
[]
["Visual\nCancellation\nⒶ 図形△",null,"正答率",{"$f":"IF(Input!D10<>\"\",Input!D10,\"\")","v":""},"％"]
[null,null,"的中率",{"$f":"IF(Input!D11<>\"\",Input!D11,\"\")","v":""},"％"]
[]
["Visual\nCancellation\nⒷ 図形※",null,"正答率",{"$f":"IF(Input!D13<>\"\",Input!D13,\"\")","v":""},"％"]
[null,null,"的中率",{"$f":"IF(Input!D14<>\"\",Input!D14,\"\")","v":""},"％"]
[]
["Visual\nCancellation\nⒸ 数字 3",null,"正答率",{"$f":"IF(Input!D16<>\"\",Input!D16,\"\")","v":""},"％"]
[null,null,"的中率",{"$f":"IF(Input!D17<>\"\",Input!D17,\"\")","v":""},"％"]
[]
["Visual\nCancellation\nⒹ 仮名 か",null,"正答率",{"$f":"IF(Input!D19<>\"\",Input!D19,\"\")","v":""},"％"]
[null,null,"的中率",{"$f":"IF(Input!D20<>\"\",Input!D20,\"\")","v":""},"％"]
[]
["Auditory\nDetection",null,"正答率",{"$f":"IF(Input!D21<>\"\",Input!D21,\"\")","v":""},"％"]
[null,null,"的中率",{"$f":"IF(Input!D22<>\"\",Input!D22,\"\")","v":""},"％"]
[]
["Memory\nUpdating",null,"3スパン 正答率",{"$f":"IF(Input!D23<>\"\",Input!D23,\"\")","v":""},"％"]
[null,null,"4スパン 正答率",{"$f":"IF(Input!D24<>\"\",Input!D24,\"\")","v":""},"％"]
[]
["PASAT",null,"2秒条件 正答率",{"$f":"IF(Input!D25<>\"\",Input!D25,\"\")","v":""},"％"]
[null,null,"1秒条件 正答率",{"$f":"IF(Input!D26<>\"\",Input!D26,\"\")","v":""},"％"]
[]
["CPT-2\n正答率",null,"SRT",{"$f":"IF(Input!D33<>\"\",Input!D33,\"\")","v":""},"％"]
[null,null,"X",{"$f":"IF(Input!D34<>\"\",Input!D34,\"\")","v":""},"％"]
[null,null,"AX",{"$f":"IF(Input!D35<>\"\",Input!D35,\"\")","v":""},"％"]
[]
["Visual\nCancellation\n所要時間",null,"Ⓐ 図形△",{"$f":"IF(Input!D9<>\"\",Input!D9,\"\")","v":""},"sec."]
[]
[null,null,"Ⓑ 図形※",{"$f":"IF(Input!D12<>\"\",Input!D12,\"\")","v":""},"sec."]
[]
[null,null,"Ⓒ 数字 3",{"$f":"IF(Input!D15<>\"\",Input!D15,\"\")","v":""},"sec."]
[]
[null,null,"Ⓓ 仮名 か",{"$f":"IF(Input!D18<>\"\",Input!D18,\"\")","v":""},"sec."]
[]
["CPT-2\n平均反応時間",null,"SRT",{"$f":"IF(Input!D27<>\"\",Input!D27,\"\")","v":""},"msec."]
[null,null,"X",{"$f":"IF(Input!D28<>\"\",Input!D28,\"\")","v":""},"msec."]
[null,null,"AX",{"$f":"IF(Input!D29<>\"\",Input!D29,\"\")","v":""},"msec."]
[]
["CPT-2\n誤反応",null,"SRT",{"$f":"IF(Input!D30<>\"\",Input!D30,\"\")","v":""},"回",null,null,{"$f":"IF(D48=\"\",\"\",IF(ISNUMBER(D48)=FALSE,\"\",(IF(D48>=4,\"異常\",\"正常\"))))","v":""}]
[null,null,"X",{"$f":"IF(Input!D31<>\"\",Input!D31,\"\")","v":""},"回",null,null,{"$f":"IF(D49=\"\",\"\",IF(ISNUMBER(D49)=FALSE,\"\",(IF(D49>=10,\"異常\",\"正常\"))))","v":""}]
[null,null,"AX",{"$f":"IF(Input!D32<>\"\",Input!D32,\"\")","v":""},"回",null,null,{"$f":"IF(D50=\"\",\"\",IF(ISNUMBER(D50)=FALSE,\"\",(IF(D50>=11,\"異常\",\"正常\"))))","v":""}]

{"sheet":"Graph（20歳代）","index":7,"n_rows":62,"n_cols":8,"rows_kept":62,"cut":false,"hidden":false,"merged":[[59,0,61,0],[59,1,61,1],[51,0,53,0],[51,1,53,1],[55,0,57,0],[55,1,57,1],[55,7,55,8],[56,7,56,8],[57,7,57,8],[35,0,37,0],[35,1,37,1],[39,0,41,0],[39,1,41,1],[42,0,42,2],[43,0,49,0],[43,1,49,1],[25,0,26,0],[25,1,26,1],[28,0,29,0],[28,1,29,1],[31,0,33,0],[31,1,33,1],[16,0,17,0],[16,1,17,1],[19,0,20,0],[19,1,20,1],[22,0,23,0],[22,1,23,1],[7,0,8,0],[7,1,8,1],[10,0,11,0],[10,1,11,1],[13,0,14,0],[13,1,14,1],[0,0,0,4],[0,5,0,8],[2,2,2,3],[2,7,2,8],[4,0,5,0],[4,1,5,1]]}
[" CAT-R　全プロフィール",null,null,null,null,"健常例20歳代"]
[null,null,null,null,"ID",{"$f":"IF(Input!C2<>\"\",Input!C2,\"\")","v":""},"検査",{"$f":"IF(Input!F3<>\"\",Input!F3,\"\")","v":""}]
["実施日",null,{"$f":"IF(Input!F2<>\"\",Input!F2,\"\")","v":""},null,"氏名",{"$f":"IF(Input!C3<>\"\",Input!C3,\"\")","v":""},"様",{"$f":"IF(Input!C4<>\"\",Input!C4,\"\")","v":""}]
[null,null,null,null,null,"平均±",1,"標準偏差"]
["Digit \nSpan",null,"forward",{"$f":"IF(Input!D5<>\"\",Input!D5,\"\")","v":""},"桁"]
[null,null,"backward",{"$f":"IF(Input!D6<>\"\",Input!D6,\"\")","v":""},"桁"]
[]
["Tapping\nSpan",null,"forward",{"$f":"IF(Input!D7<>\"\",Input!D7,\"\")","v":""},"桁"]
[null,null,"backward",{"$f":"IF(Input!D8<>\"\",Input!D8,\"\")","v":""},"桁"]
[]
["Visual\nCancellation\nⒶ 図形△",null,"正答率",{"$f":"IF(Input!D10<>\"\",Input!D10,\"\")","v":""},"％"]
[null,null,"的中率",{"$f":"IF(Input!D11<>\"\",Input!D11,\"\")","v":""},"％"]
[]
["Visual\nCancellation\nⒷ 図形※",null,"正答率",{"$f":"IF(Input!D13<>\"\",Input!D13,\"\")","v":""},"％"]
[null,null,"的中率",{"$f":"IF(Input!D14<>\"\",Input!D14,\"\")","v":""},"％"]
[]
["Visual\nCancellation\nⒸ 数字 3",null,"正答率",{"$f":"IF(Input!D16<>\"\",Input!D16,\"\")","v":""},"％"]
[null,null,"的中率",{"$f":"IF(Input!D17<>\"\",Input!D17,\"\")","v":""},"％"]
[]
["Visual\nCancellation\nⒹ 仮名 か",null,"正答率",{"$f":"IF(Input!D19<>\"\",Input!D19,\"\")","v":""},"％"]
[null,null,"的中率",{"$f":"IF(Input!D20<>\"\",Input!D20,\"\")","v":""},"％"]
[]
["Auditory\nDetection",null,"正答率",{"$f":"IF(Input!D21<>\"\",Input!D21,\"\")","v":""},"％"]
[null,null,"的中率",{"$f":"IF(Input!D22<>\"\",Input!D22,\"\")","v":""},"％"]
[]
["Memory\nUpdating",null,"3スパン 正答率",{"$f":"IF(Input!D23<>\"\",Input!D23,\"\")","v":""},"％"]
[null,null,"4スパン 正答率",{"$f":"IF(Input!D24<>\"\",Input!D24,\"\")","v":""},"％"]
[]
["PASAT",null,"2秒条件 正答率",{"$f":"IF(Input!D25<>\"\",Input!D25,\"\")","v":""},"％"]
[null,null,"1秒条件 正答率",{"$f":"IF(Input!D26<>\"\",Input!D26,\"\")","v":""},"％"]
[]
["CPT-2\n正答率",null,"SRT",{"$f":"IF(Input!D33<>\"\",Input!D33,\"\")","v":""},"％"]
[null,null,"X",{"$f":"IF(Input!D34<>\"\",Input!D34,\"\")","v":""},"％"]
[null,null,"AX",{"$f":"IF(Input!D35<>\"\",Input!D35,\"\")","v":""},"％"]
[]
["CPT-2\n的中率",null,"SRT",{"$f":"IF(Input!D36<>\"\",Input!D36,\"\")","v":""},"％"]
[null,null,"X",{"$f":"IF(Input!D37<>\"\",Input!D37,\"\")","v":""},"％"]
[null,null,"AX",{"$f":"IF(Input!D38<>\"\",Input!D38,\"\")","v":""},"％"]
[]
["CPT-2\n修正正答率",null,"SRT",{"$f":"IF(Input!D39<>\"\",Input!D39,\"\")","v":""},"％"]
[null,null,"X",{"$f":"IF(Input!D40<>\"\",Input!D40,\"\")","v":""},"％"]
[null,null,"AX",{"$f":"IF(Input!D41<>\"\",Input!D41,\"\")","v":""},"％"]
[]
["Visual\nCancellation\n所要時間",null,"Ⓐ 図形△",{"$f":"IF(Input!D9<>\"\",Input!D9,\"\")","v":""},"sec."]
[]
[null,null,"Ⓑ 図形※",{"$f":"IF(Input!D12<>\"\",Input!D12,\"\")","v":""},"sec."]
[]
[null,null,"Ⓒ 数字 3",{"$f":"IF(Input!D15<>\"\",Input!D15,\"\")","v":""},"sec."]
[]
[null,null,"Ⓓ 仮名 か",{"$f":"IF(Input!D18<>\"\",Input!D18,\"\")","v":""},"sec."]
[]
["CPT-2\n平均反応時間",null,"SRT",{"$f":"IF(Input!D27<>\"\",Input!D27,\"\")","v":""},"msec."]
[null,null,"X",{"$f":"IF(Input!D28<>\"\",Input!D28,\"\")","v":""},"msec."]
[null,null,"AX",{"$f":"IF(Input!D29<>\"\",Input!D29,\"\")","v":""},"msec."]
[]
["CPT-2\n誤反応",null,"SRT",{"$f":"IF(Input!D30<>\"\",Input!D30,\"\")","v":""},"回",null,null,{"$f":"IF(D56=\"\",\"\",IF(ISNUMBER(D56)=FALSE,\"\",(IF(D56>=4,\"異常\",\"正常\"))))","v":""}]
[null,null,"X",{"$f":"IF(Input!D31<>\"\",Input!D31,\"\")","v":""},"回",null,null,{"$f":"IF(D57=\"\",\"\",IF(ISNUMBER(D57)=FALSE,\"\",(IF(D57>=10,\"異常\",\"正常\"))))","v":""}]
[null,null,"AX",{"$f":"IF(Input!D32<>\"\",Input!D32,\"\")","v":""},"回",null,null,{"$f":"IF(D58=\"\",\"\",IF(ISNUMBER(D58)=FALSE,\"\",(IF(D58>=11,\"異常\",\"正常\"))))","v":""}]
[]
["CPT-2\n変動係数",null,"SRT",{"$f":"IF(Input!D42<>\"\",Input!D42,\"\")","v":""}]
[null,null,"X",{"$f":"IF(Input!D43<>\"\",Input!D43,\"\")","v":""}]
[null,null,"AX",{"$f":"IF(Input!D44<>\"\",Input!D44,\"\")","v":""}]

{"sheet":"Graph（30歳代）","index":8,"n_rows":62,"n_cols":8,"rows_kept":62,"cut":false,"hidden":false,"merged":[[59,0,61,0],[59,1,61,1],[51,0,53,0],[51,1,53,1],[55,0,57,0],[55,1,57,1],[55,7,55,8],[56,7,56,8],[57,7,57,8],[35,0,37,0],[35,1,37,1],[39,0,41,0],[39,1,41,1],[42,0,42,2],[43,0,49,0],[43,1,49,1],[25,0,26,0],[25,1,26,1],[28,0,29,0],[28,1,29,1],[31,0,33,0],[31,1,33,1],[16,0,17,0],[16,1,17,1],[19,0,20,0],[19,1,20,1],[22,0,23,0],[22,1,23,1],[7,0,8,0],[7,1,8,1],[10,0,11,0],[10,1,11,1],[13,0,14,0],[13,1,14,1],[0,0,0,4],[0,5,0,8],[2,2,2,3],[2,7,2,8],[4,0,5,0],[4,1,5,1]]}
[" CAT-R　全プロフィール",null,null,null,null,"健常例30歳代"]
[null,null,null,null,"ID",{"$f":"IF(Input!C2<>\"\",Input!C2,\"\")","v":""},"検査",{"$f":"IF(Input!F3<>\"\",Input!F3,\"\")","v":""}]
["実施日",null,{"$f":"IF(Input!F2<>\"\",Input!F2,\"\")","v":""},null,"氏名",{"$f":"IF(Input!C3<>\"\",Input!C3,\"\")","v":""},"様",{"$f":"IF(Input!C4<>\"\",Input!C4,\"\")","v":""}]
[null,null,null,null,null,"平均±",1,"標準偏差"]
["Digit \nSpan",null,"forward",{"$f":"IF(Input!D5<>\"\",Input!D5,\"\")","v":""},"桁"]
[null,null,"backward",{"$f":"IF(Input!D6<>\"\",Input!D6,\"\")","v":""},"桁"]
[]
["Tapping\nSpan",null,"forward",{"$f":"IF(Input!D7<>\"\",Input!D7,\"\")","v":""},"桁"]
[null,null,"backward",{"$f":"IF(Input!D8<>\"\",Input!D8,\"\")","v":""},"桁"]
[]
["Visual\nCancellation\nⒶ 図形△",null,"正答率",{"$f":"IF(Input!D10<>\"\",Input!D10,\"\")","v":""},"％"]
[null,null,"的中率",{"$f":"IF(Input!D11<>\"\",Input!D11,\"\")","v":""},"％"]
[]
["Visual\nCancellation\nⒷ 図形※",null,"正答率",{"$f":"IF(Input!D13<>\"\",Input!D13,\"\")","v":""},"％"]
[null,null,"的中率",{"$f":"IF(Input!D14<>\"\",Input!D14,\"\")","v":""},"％"]
[]
["Visual\nCancellation\nⒸ 数字 3",null,"正答率",{"$f":"IF(Input!D16<>\"\",Input!D16,\"\")","v":""},"％"]
[null,null,"的中率",{"$f":"IF(Input!D17<>\"\",Input!D17,\"\")","v":""},"％"]
[]
["Visual\nCancellation\nⒹ 仮名 か",null,"正答率",{"$f":"IF(Input!D19<>\"\",Input!D19,\"\")","v":""},"％"]
[null,null,"的中率",{"$f":"IF(Input!D20<>\"\",Input!D20,\"\")","v":""},"％"]
[]
["Auditory\nDetection",null,"正答率",{"$f":"IF(Input!D21<>\"\",Input!D21,\"\")","v":""},"％"]
[null,null,"的中率",{"$f":"IF(Input!D22<>\"\",Input!D22,\"\")","v":""},"％"]
[]
["Memory\nUpdating",null,"3スパン 正答率",{"$f":"IF(Input!D23<>\"\",Input!D23,\"\")","v":""},"％"]
[null,null,"4スパン 正答率",{"$f":"IF(Input!D24<>\"\",Input!D24,\"\")","v":""},"％"]
[]
["PASAT",null,"2秒条件 正答率",{"$f":"IF(Input!D25<>\"\",Input!D25,\"\")","v":""},"％"]
[null,null,"1秒条件 正答率",{"$f":"IF(Input!D26<>\"\",Input!D26,\"\")","v":""},"％"]
[]
["CPT-2\n正答率",null,"SRT",{"$f":"IF(Input!D33<>\"\",Input!D33,\"\")","v":""},"％"]
[null,null,"X",{"$f":"IF(Input!D34<>\"\",Input!D34,\"\")","v":""},"％"]
[null,null,"AX",{"$f":"IF(Input!D35<>\"\",Input!D35,\"\")","v":""},"％"]
[]
["CPT-2\n的中率",null,"SRT",{"$f":"IF(Input!D36<>\"\",Input!D36,\"\")","v":""},"％"]
[null,null,"X",{"$f":"IF(Input!D37<>\"\",Input!D37,\"\")","v":""},"％"]
[null,null,"AX",{"$f":"IF(Input!D38<>\"\",Input!D38,\"\")","v":""},"％"]
[]
["CPT-2\n修正正答率",null,"SRT",{"$f":"IF(Input!D39<>\"\",Input!D39,\"\")","v":""},"％"]
[null,null,"X",{"$f":"IF(Input!D40<>\"\",Input!D40,\"\")","v":""},"％"]
[null,null,"AX",{"$f":"IF(Input!D41<>\"\",Input!D41,\"\")","v":""},"％"]
[]
["Visual\nCancellation\n所要時間",null,"Ⓐ 図形△",{"$f":"IF(Input!D9<>\"\",Input!D9,\"\")","v":""},"sec."]
[]
[null,null,"Ⓑ 図形※",{"$f":"IF(Input!D12<>\"\",Input!D12,\"\")","v":""},"sec."]
[]
[null,null,"Ⓒ 数字 3",{"$f":"IF(Input!D15<>\"\",Input!D15,\"\")","v":""},"sec."]
[]
[null,null,"Ⓓ 仮名 か",{"$f":"IF(Input!D18<>\"\",Input!D18,\"\")","v":""},"sec."]
[]
["CPT-2\n平均反応時間",null,"SRT",{"$f":"IF(Input!D27<>\"\",Input!D27,\"\")","v":""},"msec."]
[null,null,"X",{"$f":"IF(Input!D28<>\"\",Input!D28,\"\")","v":""},"msec."]
[null,null,"AX",{"$f":"IF(Input!D29<>\"\",Input!D29,\"\")","v":""},"msec."]
[]
["CPT-2\n誤反応",null,"SRT",{"$f":"IF(Input!D30<>\"\",Input!D30,\"\")","v":""},"回",null,null,{"$f":"IF(D56=\"\",\"\",IF(ISNUMBER(D56)=FALSE,\"\",(IF(D56>=4,\"異常\",\"正常\"))))","v":""}]
[null,null,"X",{"$f":"IF(Input!D31<>\"\",Input!D31,\"\")","v":""},"回",null,null,{"$f":"IF(D57=\"\",\"\",IF(ISNUMBER(D57)=FALSE,\"\",(IF(D57>=10,\"異常\",\"正常\"))))","v":""}]
[null,null,"AX",{"$f":"IF(Input!D32<>\"\",Input!D32,\"\")","v":""},"回",null,null,{"$f":"IF(D58=\"\",\"\",IF(ISNUMBER(D58)=FALSE,\"\",(IF(D58>=11,\"異常\",\"正常\"))))","v":""}]
[]
["CPT-2\n変動係数",null,"SRT",{"$f":"IF(Input!D42<>\"\",Input!D42,\"\")","v":""}]
[null,null,"X",{"$f":"IF(Input!D43<>\"\",Input!D43,\"\")","v":""}]
[null,null,"AX",{"$f":"IF(Input!D44<>\"\",Input!D44,\"\")","v":""}]

{"sheet":"Graph（40歳代）","index":9,"n_rows":62,"n_cols":8,"rows_kept":62,"cut":false,"hidden":false,"merged":[[59,0,61,0],[59,1,61,1],[51,0,53,0],[51,1,53,1],[55,0,57,0],[55,1,57,1],[55,7,55,8],[56,7,56,8],[57,7,57,8],[35,0,37,0],[35,1,37,1],[39,0,41,0],[39,1,41,1],[42,0,42,2],[43,0,49,0],[43,1,49,1],[25,0,26,0],[25,1,26,1],[28,0,29,0],[28,1,29,1],[31,0,33,0],[31,1,33,1],[16,0,17,0],[16,1,17,1],[19,0,20,0],[19,1,20,1],[22,0,23,0],[22,1,23,1],[7,0,8,0],[7,1,8,1],[10,0,11,0],[10,1,11,1],[13,0,14,0],[13,1,14,1],[0,0,0,4],[0,5,0,8],[2,2,2,3],[2,7,2,8],[4,0,5,0],[4,1,5,1]]}
[" CAT-R　全プロフィール",null,null,null,null,"健常例40歳代"]
[null,null,null,null,"ID",{"$f":"IF(Input!C2<>\"\",Input!C2,\"\")","v":""},"検査",{"$f":"IF(Input!F3<>\"\",Input!F3,\"\")","v":""}]
["実施日",null,{"$f":"IF(Input!F2<>\"\",Input!F2,\"\")","v":""},null,"氏名",{"$f":"IF(Input!C3<>\"\",Input!C3,\"\")","v":""},"様",{"$f":"IF(Input!C4<>\"\",Input!C4,\"\")","v":""}]
[null,null,null,null,null,"平均±",1,"標準偏差"]
["Digit \nSpan",null,"forward",{"$f":"IF(Input!D5<>\"\",Input!D5,\"\")","v":""},"桁"]
[null,null,"backward",{"$f":"IF(Input!D6<>\"\",Input!D6,\"\")","v":""},"桁"]
[]
["Tapping\nSpan",null,"forward",{"$f":"IF(Input!D7<>\"\",Input!D7,\"\")","v":""},"桁"]
[null,null,"backward",{"$f":"IF(Input!D8<>\"\",Input!D8,\"\")","v":""},"桁"]
[]
["Visual\nCancellation\nⒶ 図形△",null,"正答率",{"$f":"IF(Input!D10<>\"\",Input!D10,\"\")","v":""},"％"]
[null,null,"的中率",{"$f":"IF(Input!D11<>\"\",Input!D11,\"\")","v":""},"％"]
[]
["Visual\nCancellation\nⒷ 図形※",null,"正答率",{"$f":"IF(Input!D13<>\"\",Input!D13,\"\")","v":""},"％"]
[null,null,"的中率",{"$f":"IF(Input!D14<>\"\",Input!D14,\"\")","v":""},"％"]
[]
["Visual\nCancellation\nⒸ 数字 3",null,"正答率",{"$f":"IF(Input!D16<>\"\",Input!D16,\"\")","v":""},"％"]
[null,null,"的中率",{"$f":"IF(Input!D17<>\"\",Input!D17,\"\")","v":""},"％"]
[]
["Visual\nCancellation\nⒹ 仮名 か",null,"正答率",{"$f":"IF(Input!D19<>\"\",Input!D19,\"\")","v":""},"％"]
[null,null,"的中率",{"$f":"IF(Input!D20<>\"\",Input!D20,\"\")","v":""},"％"]
[]
["Auditory\nDetection",null,"正答率",{"$f":"IF(Input!D21<>\"\",Input!D21,\"\")","v":""},"％"]
[null,null,"的中率",{"$f":"IF(Input!D22<>\"\",Input!D22,\"\")","v":""},"％"]
[]
["Memory\nUpdating",null,"3スパン 正答率",{"$f":"IF(Input!D23<>\"\",Input!D23,\"\")","v":""},"％"]
[null,null,"4スパン 正答率",{"$f":"IF(Input!D24<>\"\",Input!D24,\"\")","v":""},"％"]
[]
["PASAT",null,"2秒条件 正答率",{"$f":"IF(Input!D25<>\"\",Input!D25,\"\")","v":""},"％"]
[null,null,"1秒条件 正答率",{"$f":"IF(Input!D26<>\"\",Input!D26,\"\")","v":""},"％"]
[]
["CPT-2\n正答率",null,"SRT",{"$f":"IF(Input!D33<>\"\",Input!D33,\"\")","v":""},"％"]
[null,null,"X",{"$f":"IF(Input!D34<>\"\",Input!D34,\"\")","v":""},"％"]
[null,null,"AX",{"$f":"IF(Input!D35<>\"\",Input!D35,\"\")","v":""},"％"]
[]
["CPT-2\n的中率",null,"SRT",{"$f":"IF(Input!D36<>\"\",Input!D36,\"\")","v":""},"％"]
[null,null,"X",{"$f":"IF(Input!D37<>\"\",Input!D37,\"\")","v":""},"％"]
[null,null,"AX",{"$f":"IF(Input!D38<>\"\",Input!D38,\"\")","v":""},"％"]
[]
["CPT-2\n修正正答率",null,"SRT",{"$f":"IF(Input!D39<>\"\",Input!D39,\"\")","v":""},"％"]
[null,null,"X",{"$f":"IF(Input!D40<>\"\",Input!D40,\"\")","v":""},"％"]
[null,null,"AX",{"$f":"IF(Input!D41<>\"\",Input!D41,\"\")","v":""},"％"]
[]
["Visual\nCancellation\n所要時間",null,"Ⓐ 図形△",{"$f":"IF(Input!D9<>\"\",Input!D9,\"\")","v":""},"sec."]
[]
[null,null,"Ⓑ 図形※",{"$f":"IF(Input!D12<>\"\",Input!D12,\"\")","v":""},"sec."]
[]
[null,null,"Ⓒ 数字 3",{"$f":"IF(Input!D15<>\"\",Input!D15,\"\")","v":""},"sec."]
[]
[null,null,"Ⓓ 仮名 か",{"$f":"IF(Input!D18<>\"\",Input!D18,\"\")","v":""},"sec."]
[]
["CPT-2\n平均反応時間",null,"SRT",{"$f":"IF(Input!D27<>\"\",Input!D27,\"\")","v":""},"msec."]
[null,null,"X",{"$f":"IF(Input!D28<>\"\",Input!D28,\"\")","v":""},"msec."]
[null,null,"AX",{"$f":"IF(Input!D29<>\"\",Input!D29,\"\")","v":""},"msec."]
[]
["CPT-2\n誤反応",null,"SRT",{"$f":"IF(Input!D30<>\"\",Input!D30,\"\")","v":""},"回",null,null,{"$f":"IF(D56=\"\",\"\",IF(ISNUMBER(D56)=FALSE,\"\",(IF(D56>=4,\"異常\",\"正常\"))))","v":""}]
[null,null,"X",{"$f":"IF(Input!D31<>\"\",Input!D31,\"\")","v":""},"回",null,null,{"$f":"IF(D57=\"\",\"\",IF(ISNUMBER(D57)=FALSE,\"\",(IF(D57>=10,\"異常\",\"正常\"))))","v":""}]
[null,null,"AX",{"$f":"IF(Input!D32<>\"\",Input!D32,\"\")","v":""},"回",null,null,{"$f":"IF(D58=\"\",\"\",IF(ISNUMBER(D58)=FALSE,\"\",(IF(D58>=11,\"異常\",\"正常\"))))","v":""}]
[]
["CPT-2\n変動係数",null,"SRT",{"$f":"IF(Input!D42<>\"\",Input!D42,\"\")","v":""}]
[null,null,"X",{"$f":"IF(Input!D43<>\"\",Input!D43,\"\")","v":""}]
[null,null,"AX",{"$f":"IF(Input!D44<>\"\",Input!D44,\"\")","v":""}]

{"sheet":"Graph（50歳代）","index":10,"n_rows":62,"n_cols":8,"rows_kept":62,"cut":false,"hidden":false,"merged":[[59,0,61,0],[59,1,61,1],[51,0,53,0],[51,1,53,1],[55,0,57,0],[55,1,57,1],[55,7,55,8],[56,7,56,8],[57,7,57,8],[35,0,37,0],[35,1,37,1],[39,0,41,0],[39,1,41,1],[42,0,42,2],[43,0,49,0],[43,1,49,1],[25,0,26,0],[25,1,26,1],[28,0,29,0],[28,1,29,1],[31,0,33,0],[31,1,33,1],[16,0,17,0],[16,1,17,1],[19,0,20,0],[19,1,20,1],[22,0,23,0],[22,1,23,1],[7,0,8,0],[7,1,8,1],[10,0,11,0],[10,1,11,1],[13,0,14,0],[13,1,14,1],[0,0,0,4],[0,5,0,8],[2,2,2,3],[2,7,2,8],[4,0,5,0],[4,1,5,1]]}
[" CAT-R　全プロフィール",null,null,null,null,"健常例50歳代"]
[null,null,null,null,"ID",{"$f":"IF(Input!C2<>\"\",Input!C2,\"\")","v":""},"検査",{"$f":"IF(Input!F3<>\"\",Input!F3,\"\")","v":""}]
["実施日",null,{"$f":"IF(Input!F2<>\"\",Input!F2,\"\")","v":""},null,"氏名",{"$f":"IF(Input!C3<>\"\",Input!C3,\"\")","v":""},"様",{"$f":"IF(Input!C4<>\"\",Input!C4,\"\")","v":""}]
[null,null,null,null,null,"平均±",1,"標準偏差"]
["Digit \nSpan",null,"forward",{"$f":"IF(Input!D5<>\"\",Input!D5,\"\")","v":""},"桁"]
[null,null,"backward",{"$f":"IF(Input!D6<>\"\",Input!D6,\"\")","v":""},"桁"]
[]
["Tapping\nSpan",null,"forward",{"$f":"IF(Input!D7<>\"\",Input!D7,\"\")","v":""},"桁"]
[null,null,"backward",{"$f":"IF(Input!D8<>\"\",Input!D8,\"\")","v":""},"桁"]
[]
["Visual\nCancellation\nⒶ 図形△",null,"正答率",{"$f":"IF(Input!D10<>\"\",Input!D10,\"\")","v":""},"％"]
[null,null,"的中率",{"$f":"IF(Input!D11<>\"\",Input!D11,\"\")","v":""},"％"]
[]
["Visual\nCancellation\nⒷ 図形※",null,"正答率",{"$f":"IF(Input!D13<>\"\",Input!D13,\"\")","v":""},"％"]
[null,null,"的中率",{"$f":"IF(Input!D14<>\"\",Input!D14,\"\")","v":""},"％"]
[]
["Visual\nCancellation\nⒸ 数字 3",null,"正答率",{"$f":"IF(Input!D16<>\"\",Input!D16,\"\")","v":""},"％"]
[null,null,"的中率",{"$f":"IF(Input!D17<>\"\",Input!D17,\"\")","v":""},"％"]
[]
["Visual\nCancellation\nⒹ 仮名 か",null,"正答率",{"$f":"IF(Input!D19<>\"\",Input!D19,\"\")","v":""},"％"]
[null,null,"的中率",{"$f":"IF(Input!D20<>\"\",Input!D20,\"\")","v":""},"％"]
[]
["Auditory\nDetection",null,"正答率",{"$f":"IF(Input!D21<>\"\",Input!D21,\"\")","v":""},"％"]
[null,null,"的中率",{"$f":"IF(Input!D22<>\"\",Input!D22,\"\")","v":""},"％"]
[]
["Memory\nUpdating",null,"3スパン 正答率",{"$f":"IF(Input!D23<>\"\",Input!D23,\"\")","v":""},"％"]
[null,null,"4スパン 正答率",{"$f":"IF(Input!D24<>\"\",Input!D24,\"\")","v":""},"％"]
[]
["PASAT",null,"2秒条件 正答率",{"$f":"IF(Input!D25<>\"\",Input!D25,\"\")","v":""},"％"]
[null,null,"1秒条件 正答率",{"$f":"IF(Input!D26<>\"\",Input!D26,\"\")","v":""},"％"]
[]
["CPT-2\n正答率",null,"SRT",{"$f":"IF(Input!D33<>\"\",Input!D33,\"\")","v":""},"％"]
[null,null,"X",{"$f":"IF(Input!D34<>\"\",Input!D34,\"\")","v":""},"％"]
[null,null,"AX",{"$f":"IF(Input!D35<>\"\",Input!D35,\"\")","v":""},"％"]
[]
["CPT-2\n的中率",null,"SRT",{"$f":"IF(Input!D36<>\"\",Input!D36,\"\")","v":""},"％"]
[null,null,"X",{"$f":"IF(Input!D37<>\"\",Input!D37,\"\")","v":""},"％"]
[null,null,"AX",{"$f":"IF(Input!D38<>\"\",Input!D38,\"\")","v":""},"％"]
[]
["CPT-2\n修正正答率",null,"SRT",{"$f":"IF(Input!D39<>\"\",Input!D39,\"\")","v":""},"％"]
[null,null,"X",{"$f":"IF(Input!D40<>\"\",Input!D40,\"\")","v":""},"％"]
[null,null,"AX",{"$f":"IF(Input!D41<>\"\",Input!D41,\"\")","v":""},"％"]
[]
["Visual\nCancellation\n所要時間",null,"Ⓐ 図形△",{"$f":"IF(Input!D9<>\"\",Input!D9,\"\")","v":""},"sec."]
[]
[null,null,"Ⓑ 図形※",{"$f":"IF(Input!D12<>\"\",Input!D12,\"\")","v":""},"sec."]
[]
[null,null,"Ⓒ 数字 3",{"$f":"IF(Input!D15<>\"\",Input!D15,\"\")","v":""},"sec."]
[]
[null,null,"Ⓓ 仮名 か",{"$f":"IF(Input!D18<>\"\",Input!D18,\"\")","v":""},"sec."]
[]
["CPT-2\n平均反応時間",null,"SRT",{"$f":"IF(Input!D27<>\"\",Input!D27,\"\")","v":""},"msec."]
[null,null,"X",{"$f":"IF(Input!D28<>\"\",Input!D28,\"\")","v":""},"msec."]
[null,null,"AX",{"$f":"IF(Input!D29<>\"\",Input!D29,\"\")","v":""},"msec."]
[]
["CPT-2\n誤反応",null,"SRT",{"$f":"IF(Input!D30<>\"\",Input!D30,\"\")","v":""},"回",null,null,{"$f":"IF(D56=\"\",\"\",IF(ISNUMBER(D56)=FALSE,\"\",(IF(D56>=4,\"異常\",\"正常\"))))","v":""}]
[null,null,"X",{"$f":"IF(Input!D31<>\"\",Input!D31,\"\")","v":""},"回",null,null,{"$f":"IF(D57=\"\",\"\",IF(ISNUMBER(D57)=FALSE,\"\",(IF(D57>=10,\"異常\",\"正常\"))))","v":""}]
[null,null,"AX",{"$f":"IF(Input!D32<>\"\",Input!D32,\"\")","v":""},"回",null,null,{"$f":"IF(D58=\"\",\"\",IF(ISNUMBER(D58)=FALSE,\"\",(IF(D58>=11,\"異常\",\"正常\"))))","v":""}]
[]
["CPT-2\n変動係数",null,"SRT",{"$f":"IF(Input!D42<>\"\",Input!D42,\"\")","v":""}]
[null,null,"X",{"$f":"IF(Input!D43<>\"\",Input!D43,\"\")","v":""}]
[null,null,"AX",{"$f":"IF(Input!D44<>\"\",Input!D44,\"\")","v":""}]

{"sheet":"Graph（60歳代）","index":11,"n_rows":62,"n_cols":8,"rows_kept":62,"cut":false,"hidden":false,"merged":[[0,0,0,4],[0,5,0,8],[2,2,2,3],[2,7,2,8],[4,0,5,0],[4,1,5,1],[7,0,8,0],[7,1,8,1],[10,0,11,0],[10,1,11,1],[13,0,14,0],[13,1,14,1],[16,0,17,0],[16,1,17,1],[19,0,20,0],[19,1,20,1],[22,0,23,0],[22,1,23,1],[25,0,26,0],[25,1,26,1],[28,0,29,0],[28,1,29,1],[31,0,33,0],[31,1,33,1],[55,7,55,8],[56,7,56,8],[57,7,57,8],[35,0,37,0],[35,1,37,1],[39,0,41,0],[39,1,41,1],[42,0,42,2],[43,0,49,0],[43,1,49,1],[59,0,61,0],[59,1,61,1],[51,0,53,0],[51,1,53,1],[55,0,57,0],[55,1,57,1]]}
[" CAT-R　全プロフィール",null,null,null,null,"健常例60歳代"]
[null,null,null,null,"ID",{"$f":"IF(Input!C2<>\"\",Input!C2,\"\")","v":""},"検査",{"$f":"IF(Input!F3<>\"\",Input!F3,\"\")","v":""}]
["実施日",null,{"$f":"IF(Input!F2<>\"\",Input!F2,\"\")","v":""},null,"氏名",{"$f":"IF(Input!C3<>\"\",Input!C3,\"\")","v":""},"様",{"$f":"IF(Input!C4<>\"\",Input!C4,\"\")","v":""}]
[null,null,null,null,null,"平均±",1,"標準偏差"]
["Digit \nSpan",null,"forward",{"$f":"IF(Input!D5<>\"\",Input!D5,\"\")","v":""},"桁"]
[null,null,"backward",{"$f":"IF(Input!D6<>\"\",Input!D6,\"\")","v":""},"桁"]
[]
["Tapping\nSpan",null,"forward",{"$f":"IF(Input!D7<>\"\",Input!D7,\"\")","v":""},"桁"]
[null,null,"backward",{"$f":"IF(Input!D8<>\"\",Input!D8,\"\")","v":""},"桁"]
[]
["Visual\nCancellation\nⒶ 図形△",null,"正答率",{"$f":"IF(Input!D10<>\"\",Input!D10,\"\")","v":""},"％"]
[null,null,"的中率",{"$f":"IF(Input!D11<>\"\",Input!D11,\"\")","v":""},"％"]
[]
["Visual\nCancellation\nⒷ 図形※",null,"正答率",{"$f":"IF(Input!D13<>\"\",Input!D13,\"\")","v":""},"％"]
[null,null,"的中率",{"$f":"IF(Input!D14<>\"\",Input!D14,\"\")","v":""},"％"]
[]
["Visual\nCancellation\nⒸ 数字 3",null,"正答率",{"$f":"IF(Input!D16<>\"\",Input!D16,\"\")","v":""},"％"]
[null,null,"的中率",{"$f":"IF(Input!D17<>\"\",Input!D17,\"\")","v":""},"％"]
[]
["Visual\nCancellation\nⒹ 仮名 か",null,"正答率",{"$f":"IF(Input!D19<>\"\",Input!D19,\"\")","v":""},"％"]
[null,null,"的中率",{"$f":"IF(Input!D20<>\"\",Input!D20,\"\")","v":""},"％"]
[]
["Auditory\nDetection",null,"正答率",{"$f":"IF(Input!D21<>\"\",Input!D21,\"\")","v":""},"％"]
[null,null,"的中率",{"$f":"IF(Input!D22<>\"\",Input!D22,\"\")","v":""},"％"]
[]
["Memory\nUpdating",null,"3スパン 正答率",{"$f":"IF(Input!D23<>\"\",Input!D23,\"\")","v":""},"％"]
[null,null,"4スパン 正答率",{"$f":"IF(Input!D24<>\"\",Input!D24,\"\")","v":""},"％"]
[]
["PASAT",null,"2秒条件 正答率",{"$f":"IF(Input!D25<>\"\",Input!D25,\"\")","v":""},"％"]
[null,null,"1秒条件 正答率",{"$f":"IF(Input!D26<>\"\",Input!D26,\"\")","v":""},"％"]
[]
["CPT-2\n正答率",null,"SRT",{"$f":"IF(Input!D33<>\"\",Input!D33,\"\")","v":""},"％"]
[null,null,"X",{"$f":"IF(Input!D34<>\"\",Input!D34,\"\")","v":""},"％"]
[null,null,"AX",{"$f":"IF(Input!D35<>\"\",Input!D35,\"\")","v":""},"％"]
[]
["CPT-2\n的中率",null,"SRT",{"$f":"IF(Input!D36<>\"\",Input!D36,\"\")","v":""},"％"]
[null,null,"X",{"$f":"IF(Input!D37<>\"\",Input!D37,\"\")","v":""},"％"]
[null,null,"AX",{"$f":"IF(Input!D38<>\"\",Input!D38,\"\")","v":""},"％"]
[]
["CPT-2\n修正正答率",null,"SRT",{"$f":"IF(Input!D39<>\"\",Input!D39,\"\")","v":""},"％"]
[null,null,"X",{"$f":"IF(Input!D40<>\"\",Input!D40,\"\")","v":""},"％"]
[null,null,"AX",{"$f":"IF(Input!D41<>\"\",Input!D41,\"\")","v":""},"％"]
[]
["Visual\nCancellation\n所要時間",null,"Ⓐ 図形△",{"$f":"IF(Input!D9<>\"\",Input!D9,\"\")","v":""},"sec."]
[]
[null,null,"Ⓑ 図形※",{"$f":"IF(Input!D12<>\"\",Input!D12,\"\")","v":""},"sec."]
[]
[null,null,"Ⓒ 数字 3",{"$f":"IF(Input!D15<>\"\",Input!D15,\"\")","v":""},"sec."]
[]
[null,null,"Ⓓ 仮名 か",{"$f":"IF(Input!D18<>\"\",Input!D18,\"\")","v":""},"sec."]
[]
["CPT-2\n平均反応時間",null,"SRT",{"$f":"IF(Input!D27<>\"\",Input!D27,\"\")","v":""},"msec."]
[null,null,"X",{"$f":"IF(Input!D28<>\"\",Input!D28,\"\")","v":""},"msec."]
[null,null,"AX",{"$f":"IF(Input!D29<>\"\",Input!D29,\"\")","v":""},"msec."]
[]
["CPT-2\n誤反応",null,"SRT",{"$f":"IF(Input!D30<>\"\",Input!D30,\"\")","v":""},"回",null,null,{"$f":"IF(D56=\"\",\"\",IF(ISNUMBER(D56)=FALSE,\"\",(IF(D56>=4,\"異常\",\"正常\"))))","v":""}]
[null,null,"X",{"$f":"IF(Input!D31<>\"\",Input!D31,\"\")","v":""},"回",null,null,{"$f":"IF(D57=\"\",\"\",IF(ISNUMBER(D57)=FALSE,\"\",(IF(D57>=10,\"異常\",\"正常\"))))","v":""}]
[null,null,"AX",{"$f":"IF(Input!D32<>\"\",Input!D32,\"\")","v":""},"回",null,null,{"$f":"IF(D58=\"\",\"\",IF(ISNUMBER(D58)=FALSE,\"\",(IF(D58>=11,\"異常\",\"正常\"))))","v":""}]
[]
["CPT-2\n変動係数",null,"SRT",{"$f":"IF(Input!D42<>\"\",Input!D42,\"\")","v":""}]
[null,null,"X",{"$f":"IF(Input!D43<>\"\",Input!D43,\"\")","v":""}]
[null,null,"AX",{"$f":"IF(Input!D44<>\"\",Input!D44,\"\")","v":""}]

{"sheet":"Graph（70歳代）","index":12,"n_rows":62,"n_cols":8,"rows_kept":62,"cut":false,"hidden":false,"merged":[[0,0,0,4],[0,5,0,8],[2,2,2,3],[2,7,2,8],[4,0,5,0],[4,1,5,1],[7,0,8,0],[7,1,8,1],[10,0,11,0],[10,1,11,1],[13,0,14,0],[13,1,14,1],[16,0,17,0],[16,1,17,1],[19,0,20,0],[19,1,20,1],[22,0,23,0],[22,1,23,1],[25,0,26,0],[25,1,26,1],[28,0,29,0],[28,1,29,1],[31,0,33,0],[31,1,33,1],[55,7,55,8],[56,7,56,8],[57,7,57,8],[35,0,37,0],[35,1,37,1],[39,0,41,0],[39,1,41,1],[42,0,42,2],[43,0,49,0],[43,1,49,1],[59,0,61,0],[59,1,61,1],[51,0,53,0],[51,1,53,1],[55,0,57,0],[55,1,57,1]]}
[" CAT-R　全プロフィール",null,null,null,null,"健常例70歳代"]
[null,null,null,null,"ID",{"$f":"IF(Input!C2<>\"\",Input!C2,\"\")","v":""},"検査",{"$f":"IF(Input!F3<>\"\",Input!F3,\"\")","v":""}]
["実施日",null,{"$f":"IF(Input!F2<>\"\",Input!F2,\"\")","v":""},null,"氏名",{"$f":"IF(Input!C3<>\"\",Input!C3,\"\")","v":""},"様",{"$f":"IF(Input!C4<>\"\",Input!C4,\"\")","v":""}]
[null,null,null,null,null,"平均±",1,"標準偏差"]
["Digit \nSpan",null,"forward",{"$f":"IF(Input!D5<>\"\",Input!D5,\"\")","v":""},"桁"]
[null,null,"backward",{"$f":"IF(Input!D6<>\"\",Input!D6,\"\")","v":""},"桁"]
[]
["Tapping\nSpan",null,"forward",{"$f":"IF(Input!D7<>\"\",Input!D7,\"\")","v":""},"桁"]
[null,null,"backward",{"$f":"IF(Input!D8<>\"\",Input!D8,\"\")","v":""},"桁"]
[]
["Visual\nCancellation\nⒶ 図形△",null,"正答率",{"$f":"IF(Input!D10<>\"\",Input!D10,\"\")","v":""},"％"]
[null,null,"的中率",{"$f":"IF(Input!D11<>\"\",Input!D11,\"\")","v":""},"％"]
[]
["Visual\nCancellation\nⒷ 図形※",null,"正答率",{"$f":"IF(Input!D13<>\"\",Input!D13,\"\")","v":""},"％"]
[null,null,"的中率",{"$f":"IF(Input!D14<>\"\",Input!D14,\"\")","v":""},"％"]
[]
["Visual\nCancellation\nⒸ 数字 3",null,"正答率",{"$f":"IF(Input!D16<>\"\",Input!D16,\"\")","v":""},"％"]
[null,null,"的中率",{"$f":"IF(Input!D17<>\"\",Input!D17,\"\")","v":""},"％"]
[]
["Visual\nCancellation\nⒹ 仮名 か",null,"正答率",{"$f":"IF(Input!D19<>\"\",Input!D19,\"\")","v":""},"％"]
[null,null,"的中率",{"$f":"IF(Input!D20<>\"\",Input!D20,\"\")","v":""},"％"]
[]
["Auditory\nDetection",null,"正答率",{"$f":"IF(Input!D21<>\"\",Input!D21,\"\")","v":""},"％"]
[null,null,"的中率",{"$f":"IF(Input!D22<>\"\",Input!D22,\"\")","v":""},"％"]
[]
["Memory\nUpdating",null,"3スパン 正答率",{"$f":"IF(Input!D23<>\"\",Input!D23,\"\")","v":""},"％"]
[null,null,"4スパン 正答率",{"$f":"IF(Input!D24<>\"\",Input!D24,\"\")","v":""},"％"]
[]
["PASAT",null,"2秒条件 正答率",{"$f":"IF(Input!D25<>\"\",Input!D25,\"\")","v":""},"％"]
[null,null,"1秒条件 正答率",{"$f":"IF(Input!D26<>\"\",Input!D26,\"\")","v":""},"％"]
[]
["CPT-2\n正答率",null,"SRT",{"$f":"IF(Input!D33<>\"\",Input!D33,\"\")","v":""},"％"]
[null,null,"X",{"$f":"IF(Input!D34<>\"\",Input!D34,\"\")","v":""},"％"]
[null,null,"AX",{"$f":"IF(Input!D35<>\"\",Input!D35,\"\")","v":""},"％"]
[]
["CPT-2\n的中率",null,"SRT",{"$f":"IF(Input!D36<>\"\",Input!D36,\"\")","v":""},"％"]
[null,null,"X",{"$f":"IF(Input!D37<>\"\",Input!D37,\"\")","v":""},"％"]
[null,null,"AX",{"$f":"IF(Input!D38<>\"\",Input!D38,\"\")","v":""},"％"]
[]
["CPT-2\n修正正答率",null,"SRT",{"$f":"IF(Input!D39<>\"\",Input!D39,\"\")","v":""},"％"]
[null,null,"X",{"$f":"IF(Input!D40<>\"\",Input!D40,\"\")","v":""},"％"]
[null,null,"AX",{"$f":"IF(Input!D41<>\"\",Input!D41,\"\")","v":""},"％"]
[]
["Visual\nCancellation\n所要時間",null,"Ⓐ 図形△",{"$f":"IF(Input!D9<>\"\",Input!D9,\"\")","v":""},"sec."]
[]
[null,null,"Ⓑ 図形※",{"$f":"IF(Input!D12<>\"\",Input!D12,\"\")","v":""},"sec."]
[]
[null,null,"Ⓒ 数字 3",{"$f":"IF(Input!D15<>\"\",Input!D15,\"\")","v":""},"sec."]
[]
[null,null,"Ⓓ 仮名 か",{"$f":"IF(Input!D18<>\"\",Input!D18,\"\")","v":""},"sec."]
[]
["CPT-2\n平均反応時間",null,"SRT",{"$f":"IF(Input!D27<>\"\",Input!D27,\"\")","v":""},"msec."]
[null,null,"X",{"$f":"IF(Input!D28<>\"\",Input!D28,\"\")","v":""},"msec."]
[null,null,"AX",{"$f":"IF(Input!D29<>\"\",Input!D29,\"\")","v":""},"msec."]
[]
["CPT-2\n誤反応",null,"SRT",{"$f":"IF(Input!D30<>\"\",Input!D30,\"\")","v":""},"回",null,null,{"$f":"IF(D56=\"\",\"\",IF(ISNUMBER(D56)=FALSE,\"\",(IF(D56>=4,\"異常\",\"正常\"))))","v":""}]
[null,null,"X",{"$f":"IF(Input!D31<>\"\",Input!D31,\"\")","v":""},"回",null,null,{"$f":"IF(D57=\"\",\"\",IF(ISNUMBER(D57)=FALSE,\"\",(IF(D57>=10,\"異常\",\"正常\"))))","v":""}]
[null,null,"AX",{"$f":"IF(Input!D32<>\"\",Input!D32,\"\")","v":""},"回",null,null,{"$f":"IF(D58=\"\",\"\",IF(ISNUMBER(D58)=FALSE,\"\",(IF(D58>=11,\"異常\",\"正常\"))))","v":""}]
[]
["CPT-2\n変動係数",null,"SRT",{"$f":"IF(Input!D42<>\"\",Input!D42,\"\")","v":""}]
[null,null,"X",{"$f":"IF(Input!D43<>\"\",Input!D43,\"\")","v":""}]
[null,null,"AX",{"$f":"IF(Input!D44<>\"\",Input!D44,\"\")","v":""}]

{"sheet":"Compute","index":13,"n_rows":233,"n_cols":38,"rows_kept":233,"cut":false,"hidden":false,"merged":[[225,0,226,0],[227,0,228,0],[229,0,231,0],[214,0,216,0],[216,15,218,15],[217,0,219,0],[219,15,221,15],[220,0,222,0],[223,0,224,0],[205,2,205,6],[205,9,205,12],[205,17,205,21],[205,24,205,27],[207,0,208,0],[207,15,209,15],[209,0,210,0],[210,15,212,15],[211,0,213,0],[213,15,215,15],[190,15,192,15],[191,0,193,0],[194,0,195,0],[196,0,197,0],[198,0,199,0],[200,0,202,0],[176,24,176,27],[178,0,179,0],[178,15,180,15],[180,0,181,0],[181,15,183,15],[182,0,184,0],[184,15,186,15],[185,0,187,0],[187,15,189,15],[188,0,190,0],[167,0,168,0],[169,0,170,0],[171,0,173,0],[176,2,176,6],[176,9,176,12],[176,17,176,21],[156,0,158,0],[158,15,160,15],[159,0,161,0],[161,15,163,15],[162,0,164,0],[165,0,166,0],[147,2,147,6],[147,9,147,12],[147,17,147,21],[147,24,147,27],[149,0,150,0],[149,15,151,15],[151,0,152,0],[152,15,154,15],[153,0,155,0],[155,15,157,15],[132,15,134,15],[133,0,135,0],[136,0,137,0],[138,0,139,0],[140,0,141,0],[142,0,144,0],[118,24,118,27],[120,0,121,0],[120,15,122,15],[122,0,123,0],[123,15,125,15],[124,0,126,0],[126,15,128,15],[127,0,129,0],[129,15,131,15],[130,0,132,0],[109,0,110,0],[111,0,112,0],[113,0,115,0],[118,2,118,6],[118,9,118,12],[118,17,118,21],[98,0,100,0],[100,15,102,15],[101,0,103,0],[103,15,105,15],[104,0,106,0],[107,0,108,0],[89,2,89,6],[89,9,89,12],[89,17,89,21],[89,24,89,27],[91,0,92,0],[91,15,93,15],[93,0,94,0],[94,15,96,15],[95,0,97,0],[97,15,99,15],[74,15,76,15],[75,0,77,0],[78,0,79,0],[80,0,81,0],[82,0,83,0],[84,0,86,0],[60,24,60,27],[62,0,63,0],[62,15,64,15],[64,0,65,0],[65,15,67,15],[66,0,68,0],[68,15,70,15],[69,0,71,0],[71,15,73,15],[72,0,74,0],[51,0,52,0],[53,0,54,0],[55,0,57,0],[60,2,60,6],[60,9,60,12],[60,17,60,21],[42,15,44,15],[43,0,45,0],[43,30,44,30],[45,15,47,15],[46,0,48,0],[46,30,49,30],[49,0,50,0],[33,30,34,30],[35,0,36,0],[35,30,36,30],[36,15,38,15],[37,0,39,0],[37,30,38,30],[39,15,41,15],[39,30,40,30],[40,0,42,0],[41,30,42,30],[17,21,20,21],[31,2,31,6],[31,9,31,12],[31,17,31,21],[31,24,31,27],[33,0,34,0],[33,15,35,15],[4,21,5,21],[6,21,7,21],[8,21,9,21],[10,21,11,21],[12,21,13,21],[14,21,15,21],[62,30,63,30],[64,30,65,30],[66,30,67,30],[68,30,69,30],[70,30,71,30],[72,30,73,30],[75,30,78,30],[91,30,92,30],[93,30,94,30],[95,30,96,30],[97,30,98,30],[99,30,100,30],[101,30,102,30],[104,30,107,30],[120,30,121,30],[122,30,123,30],[124,30,125,30],[126,30,127,30],[128,30,129,30],[130,30,131,30],[133,30,136,30],[149,30,150,30],[151,30,152,30],[153,30,154,30],[155,30,156,30],[157,30,158,30],[159,30,160,30],[209,30,210,30],[211,30,212,30],[213,30,214,30],[215,30,216,30],[217,30,218,30],[220,30,223,30],[162,30,165,30],[178,30,179,30],[180,30,181,30],[182,30,183,30],[184,30,185,30],[186,30,187,30],[188,30,189,30],[191,30,194,30],[207,30,208,30]]}
[1,null,null,null,null,null,null,null,null,null,null,null,1]
[2,null,null,null,null,null,null,null,null,null,null,null,2]
[3,null,null,null,null,null,null,null,null,null,null,null,3]
[null,"入力","最大値","グラフ出力","縦軸","目盛","目盛","目盛","目盛","行数",null,null,"入力","最大値","グラフ出力","縦軸","目盛","目盛","目盛","目盛",null,null,null,"入力","最大値","グラフ出力","縦軸","目盛","目盛","目盛","目盛"]
["桁　DS",{"$f":"Input!D5","v":0},10,null,{"$f":"E6+1","v":15.5},2,5,8,6,1,null,"CPT-2　誤反応",{"$f":"Input!D30","v":0},20,0,{"$f":"P6+1","v":2.5},2.5,5,5.83,9.17,null,"DigitSpan","forward",{"$f":"B5","v":0},10,0,{"$f":"AA6+1","v":11.5},2,5,8,6]
["桁",{"$f":"Input!D6","v":0},10,null,14.5,2,5,8,6,2,null,null,{"$f":"Input!D31","v":0},20,0,{"$f":"P7+1","v":1.5},2.5,5,5.83,9.17,null,null,"backward",0,10,0,10.5,2,5,8,6]
["桁　TS",{"$f":"Input!D7","v":0},10,null,13.5,2,5,8,6,3,null,null,{"$f":"Input!D32","v":0},20,0,0.5,2.5,5,5.83,9.17,null,"Tappimg Span","forward",0,10,0,9.5,2,5,8,6]
["桁",{"$f":"Input!D8","v":0},10,null,12.5,2,5,8,6,4,null,"CPT-2　正答率",{"$f":"Input!D33","v":0},100,0,{"$f":"P9+1","v":2.5},2,5,8,6,null,null,"backward",0,10,0,8.5,{"$f":"Q8","v":2},{"$f":"R8","v":5},{"$f":"S8","v":8},{"$f":"T8","v":6}]
["210sec　△",{"$f":"Input!D9","v":0},210,null,11.5,2,5,8,6,5,null,null,{"$f":"Input!D34","v":0},100,0,{"$f":"P10+1","v":1.5},2,5,8,6,null,"VC図形△","VC△ 正答率",{"$f":"B10","v":0},{"$f":"C10","v":100},0,7.5,2,5,8,6]
["%",{"$f":"Input!D10","v":0},100,null,10.5,2,5,8,6,6,null,null,{"$f":"Input!D35","v":0},100,0,0.5,2,5,8,6,null,null,"VC△ 的中率",{"$f":"B11","v":0},100,0,6.5,2,5,8,6]
["%",{"$f":"Input!D11","v":0},100,null,9.5,2,5,8,6,7,null,"CPT-2　的中率",{"$f":"Input!D36","v":0},100,0,{"$f":"P12+1","v":2.5},2,5,8,6,null,"VC図形※","VC※ 正答率",{"$f":"B13","v":0},{"$f":"C13","v":100},0,5.5,2,5,{"$f":"H13","v":8},6]
["210sec　※",{"$f":"Input!D12","v":0},210,null,8.5,2,5,8,6,8,null,null,{"$f":"Input!D37","v":0},100,0,{"$f":"P13+1","v":1.5},2,5,8,6,null,null,"VC※ 的中率",{"$f":"B14","v":0},100,0,4.5,2,5,8,6]
["%",{"$f":"Input!D13","v":0},100,null,7.5,2,5,8,6,9,null,null,{"$f":"Input!D38","v":0},100,0,0.5,2,5,8,6,null,"VC 3","VC 3 正答率",{"$f":"B16","v":0},{"$f":"C16","v":100},0,3.5,2,5,8,6]
["%",{"$f":"Input!D14","v":0},100,null,6.5,2,5,8,6,10,null,"CPT-2　修正正答率",{"$f":"Input!D39","v":0},100,0,{"$f":"P15+1","v":2.5},2,5,8,6,null,null,"VC 3 的中率",{"$f":"B17","v":0},100,0,2.5,2,5,8,6]
["210sec　3",{"$f":"Input!D15","v":0},210,null,5.5,2,5,8,6,11,null,null,{"$f":"Input!D40","v":0},100,0,{"$f":"P16+1","v":1.5},2,5,8,6,null,"VC か","VC か 正答率",{"$f":"B19","v":0},{"$f":"C19","v":100},0,{"$f":"AA16+1","v":1.5},2,5,8,6]
["%",{"$f":"Input!D16","v":0},100,null,4.5,2,5,8,6,12,null,null,{"$f":"Input!D41","v":0},100,0,0.5,2,5,8,6,null,null,"VC か 的中率",{"$f":"B20","v":0},100,0,0.5,2,5,8,6]
["%",{"$f":"Input!D17","v":0},100,null,3.5,2,5,8,6,13,null,"CPT-2　変動係数",{"$f":"Input!D42","v":0},30,0,{"$f":"P18+1","v":2.5},2,5,8,6]
["210sec　か",{"$f":"Input!D18","v":0},210,null,2.5,2,5,8,6,14,null,null,{"$f":"Input!D43","v":0},30,0,{"$f":"P19+1","v":1.5},2,5,8,6,null,"VC\n所要時間","VC△",{"$f":"B9","v":0},{"$f":"C9","v":210},{"$f":"D9","v":0},{"$f":"AA19+1","v":3.5},2.86,{"$f":"G9","v":5},4.29,7.86]
["%",{"$f":"Input!D19","v":0},100,null,{"$f":"E20+1","v":1.5},2,5,8,6,15,null,null,{"$f":"Input!D44","v":0},30,0,0.5,2,5,8,6,null,null,"VC※",{"$f":"B12","v":0},{"$f":"C12","v":210},{"$f":"D12","v":0},{"$f":"AA20+1","v":2.5},2.86,{"$f":"G12","v":5},4.29,7.86]
["%",{"$f":"Input!D20","v":0},100,null,0.5,2,5,8,6,16,null,null,null,null,null,null,null,null,null,null,null,null,"VC 3",{"$f":"B15","v":0},{"$f":"C15","v":210},{"$f":"D15","v":0},{"$f":"AA21+1","v":1.5},2.86,{"$f":"G15","v":5},4.29,7.86]
["%　AD",{"$f":"Input!D21","v":0},100,null,{"$f":"E22+1","v":5.5},2,5,8,6,17,null,null,null,null,null,null,null,null,null,null,null,null,"VC か",{"$f":"B18","v":0},{"$f":"C18","v":210},{"$f":"D18","v":0},0.5,2.86,{"$f":"G18","v":5},4.29,7.86]
["%",{"$f":"Input!D22","v":0},100,null,{"$f":"E23+1","v":4.5},2,5,8,6,18]
["%　MU",{"$f":"Input!D23","v":0},100,null,{"$f":"E24+1","v":3.5},2,5,8,6,19]
["%",{"$f":"Input!D24","v":0},100,null,{"$f":"E25+1","v":2.5},2,5,8,6,20]
["%　PASAT",{"$f":"Input!D25","v":0},100,null,{"$f":"E26+1","v":1.5},2,5,8,6,21]
["%",{"$f":"Input!D26","v":0},100,null,0.5,2,5,8,6,22]
["800msec　CPT-2",{"$f":"Input!D27","v":0},800,null,{"$f":"E28+1","v":2.5},400,500,null,null,23]
["800msec",{"$f":"Input!D28","v":0},800,null,{"$f":"E29+1","v":1.5},400,500,null,null,24]
["800msec",{"$f":"Input!D29","v":0},800,null,0.5,400,500,null,null,25]
[]
[null,null,null,"■:計算結果,■:入力不要,■:入力値無し"]
["M±SD",1,"入力値",null,null,null,null,null,null,"グラフ出力(左記の入力値を変換)",null,null,null,null,null,null,null,"入力値",null,null,null,null,null,null,"グラフ出力(左記の入力値を変換)",null,null,null,null,null,null,null,null,"グラフ出力(左記の入力値を変換)"]
["20代",null,"平均","SD","SD上","SD下","cutoff","最大値","最大値","平均","SD上","SD下","cutoff","縦軸",null,"20代",null,"平均","SD","SD上","SD下","cutoff","最大値","最大値","平均","SD上","SD下","cutoff","縦軸",null,"20代",null,"最大値","平均","SD上","SD下","cutoff","縦軸"]
["DigitSpan","forward",7.5,0.9,{"$f":"IF(C34+($B$32*D34)>H34,H34,C34+($B$32*D34))","v":8.4},{"$f":"IF(C34-($B$32*D34)<0,0,C34-($B$32*D34))","v":6.6},6,10,10,{"$f":"C34/I34*10","v":7.5},{"$f":"E34/I34*10","v":8.4},{"$f":"F34/I34*10","v":6.6},{"$f":"G34/I34*10","v":6},{"$f":"$E$5","v":15.5},null,"CPT2　誤反応","SRT",null,null,{"$f":"IF(R34+($B$32*S34)>W34,W34,R34+($B$32*S34))","v":0},{"$f":"IF(R34-($B$32*S34)<0,0,R34-($B$32*S34))","v":0},4,20,{"$f":"W34","v":20},{"$f":"R34/X34*10","v":0},{"$f":"T34/X34*10","v":0},{"$f":"U34/X34*10","v":0},{"$f":"V34/X34*10","v":2},{"$f":"AC35+1","v":2.5},null,"DigitSpan","forward",{"$f":"I34","v":10},{"$f":"J34","v":7.5},8.4,6.6,6,{"$f":"AL35+1","v":11.5}]
[null,"backward",5.4,0.7,{"$f":"IF(C35+($B$32*D35)>H35,H35,C35+($B$32*D35))","v":6.1000000000000005},{"$f":"IF(C35-($B$32*D35)<0,0,C35-($B$32*D35))","v":4.7},4,10,10,5.4,6.1000000000000014,4.7,{"$f":"G35/I35*10","v":4},{"$f":"$E$6","v":14.5},null,null,"X",null,null,{"$f":"IF(R35+($B$32*S35)>W35,W35,R35+($B$32*S35))","v":0},{"$f":"IF(R35-($B$32*S35)<0,0,R35-($B$32*S35))","v":0},10,20,{"$f":"W35","v":20},{"$f":"R35/X35*10","v":0},{"$f":"T35/X35*10","v":0},{"$f":"U35/X35*10","v":0},{"$f":"V35/X35*10","v":5},{"$f":"AC36+1","v":1.5},null,null,"backward",{"$f":"I35","v":10},5.4,6.1000000000000014,4.7,4,10.5]
["Tappimg Span","forward",6.9,1.1000000000000001,8,5.8000000000000007,6,10,10,6.9,8,5.8000000000000007,{"$f":"G36/I36*10","v":6},{"$f":"$E$7","v":13.5},null,null,"AX",null,null,0,0,11,20,20,0,{"$f":"T36/X36*10","v":0},0,{"$f":"V36/X36*10","v":5.5},0.5,null,"Tappimg Span","forward",{"$f":"I36","v":10},6.9,8,5.8000000000000007,6,9.5]
[null,"backward",6.2,1.3,7.5,4.9000000000000004,5,10,10,6.2,7.5,4.9000000000000004,{"$f":"G37/I37*10","v":5},{"$f":"$E$8","v":12.5},null,"CPT2　正答率","SRT",99.7,0.7,{"$f":"IF(R37+($B$32*S37)>W37,W37,R37+($B$32*S37))","v":100},99,null,100,100,9.9700000000000006,{"$f":"T37/X37*10","v":10},9.9,null,{"$f":"AC38+1","v":2.5},null,null,"backward",{"$f":"I37","v":10},6.2,7.5,4.9000000000000004,{"$f":"M37","v":5},8.5]
["VC図形△","VC△ 所要時間",34.6,6.1,40.700000000000003,28.5,null,210,210,1.6476190476190478,1.9380952380952383,1.357142857142857,null,{"$f":"$E$9","v":11.5},null,null,"X",99.9,0.5,100,99.4,null,100,100,9.990000000000002,{"$f":"T38/X38*10","v":10},9.9400000000000013,null,{"$f":"AC39+1","v":1.5},null,"VC図形△","VC△ 正答率",{"$f":"I39","v":100},{"$f":"J39","v":10},{"$f":"K39","v":10},{"$f":"L39","v":10},null,7.5]
[null,"VC△ 正答率",100,0,100,100,null,100,100,10,10,10,null,{"$f":"$E$10","v":10.5},null,null,"AX",97.9,3.6,100,94.300000000000011,null,100,100,9.7900000000000009,10,9.43,null,0.5,null,null,"VC△ 的中率",{"$f":"I40","v":100},9.990000000000002,10,9.9600000000000009,null,6.5]
[null,"VC△ 的中率",99.9,0.3,100,99.600000000000009,null,100,100,9.990000000000002,10,9.9600000000000009,null,{"$f":"$E$11","v":9.5},null,"CPT2　的中率","SRT",99.8,0.6,100,99.2,null,100,100,9.98,10,9.92,null,{"$f":"AC41+1","v":2.5},null,"VC図形※","VC※ 正答率",{"$f":"I42","v":100},{"$f":"J42","v":10},10,10,null,5.5]
["VC図形※","VC※ 所要時間",40,6.7,46.7,33.299999999999997,null,210,210,1.9047619047619047,2.2238095238095239,1.5857142857142856,null,{"$f":"$E$12","v":8.5},null,null,"X",99.3,1.5,100,97.8,null,100,100,9.93,10,9.7799999999999994,null,{"$f":"AC42+1","v":1.5},null,null,"VC※ 的中率",{"$f":"I43","v":100},9.98,10,9.92,null,4.5]
[null,"VC※ 正答率",100,0,100,100,null,100,100,10,10,10,null,{"$f":"$E$13","v":7.5},null,null,"AX",97.5,2.9,100,94.6,null,100,100,9.75,10,9.4599999999999991,null,0.5,null,"VC 3","VC 3 正答率",{"$f":"I45","v":100},{"$f":"J45","v":9.9600000000000009},10,9.8899999999999988,null,3.5]
[null,"VC※ 的中率",99.8,0.6,100,99.2,null,100,100,9.98,10,9.92,null,{"$f":"$E$14","v":6.5},null,"CPT2\n修正正答率","SRT",99.9,0.4,100,99.5,null,100,100,9.990000000000002,10,9.9499999999999993,null,{"$f":"AC44+1","v":2.5},null,null,"VC 3 的中率",{"$f":"I46","v":100},10,10,9.9600000000000009,null,2.5]
["VC 3","VC 3 所要時間",67,10.3,77.3,56.7,null,210,210,3.1904761904761902,3.6809523809523808,2.7,null,{"$f":"$E$15","v":5.5},null,null,"X",99.7,0.6,100,99.100000000000009,null,100,100,9.9700000000000006,10,9.91,null,{"$f":"AC45+1","v":1.5},null,"VC か","VC か 正答率",{"$f":"I48","v":100},{"$f":"J48","v":9.83},10,9.65,null,{"$f":"AL45+1","v":1.5}]
[null,"VC 3 正答率",99.6,0.7,100,98.899999999999991,null,100,100,{"$f":"C45/I45*10","v":9.9600000000000009},{"$f":"E45/I45*10","v":10},{"$f":"F45/I45*10","v":9.8899999999999988},null,{"$f":"$E$16","v":4.5},null,null,"AX",97.6,3.6,100,94,null,100,100,9.76,10,9.3999999999999986,null,0.5,null,null,"VC か 的中率",{"$f":"I49","v":100},10,10,9.98,null,0.5]
[null,"VC 3 的中率",100,0.4,100,99.6,null,100,100,10,10,9.9600000000000009,null,{"$f":"$E$17","v":3.5},null,"CPT2\n変動係数","SRT",12.2,4.0999999999999996,16.299999999999997,8.1,null,30,30,4.0666666666666664,5.4333333333333318,2.6999999999999997,null,{"$f":"AC47+1","v":2.5}]
["VC か","VC か 所要時間",81.900000000000006,13,94.9,68.900000000000006,null,210,210,{"$f":"C47/I47*10","v":3.9000000000000004},{"$f":"E47/I47*10","v":4.519047619047619},3.2809523809523808,null,{"$f":"$E$18","v":2.5},null,null,"X",12.2,2.8,15,9.3999999999999986,null,30,30,4.0666666666666664,5,3.1333333333333329,null,{"$f":"AC48+1","v":1.5},null,"VC\n所要時間","VC△",{"$f":"I41","v":210},{"$f":"J41","v":1.9047619047619047},{"$f":"K41","v":2.2238095238095239},{"$f":"L41","v":1.5857142857142856},null,{"$f":"AL48+1","v":3.5}]
[null,"VC か 正答率",98.3,1.8,100,96.5,null,100,100,9.83,10,9.65,null,{"$f":"$E$19","v":1.5},null,null,"AX",14.6,4.5,{"$f":"IF(R48+($B$32*S48)>W48,W48,R48+($B$32*S48))","v":19.100000000000001},10.1,null,30,30,{"$f":"R48/X48*10","v":4.8666666666666663},{"$f":"T48/X48*10","v":6.3666666666666671},3.3666666666666667,null,0.5,null,null,"VC※",{"$f":"I41","v":210},{"$f":"J41","v":1.9047619047619047},{"$f":"K41","v":2.2238095238095239},{"$f":"L41","v":1.5857142857142856},null,{"$f":"AL49+1","v":2.5}]
[null,"VC か 的中率",100,0.2,100,99.8,null,100,100,10,10,9.98,null,{"$f":"$E$20","v":0.5},null,null,null,null,null,null,null,null,null,null,null,null,null,null,null,null,null,"VC 3",{"$f":"I44","v":210},{"$f":"J44","v":3.1904761904761902},{"$f":"K44","v":3.6809523809523808},{"$f":"L44","v":2.7},null,{"$f":"AL50+1","v":1.5}]
["AD","AD　正答率",98.8,1.5,100,97.3,96,100,100,9.879999999999999,10,9.73,{"$f":"G50/I50*10","v":9.6},{"$f":"$E$21","v":5.5},null,null,null,null,null,null,null,null,null,null,null,null,null,null,null,null,null,"VC か",{"$f":"I47","v":210},{"$f":"J47","v":3.9000000000000004},{"$f":"K47","v":4.519047619047619},{"$f":"L47","v":3.2809523809523808},null,0.5]
[null,"AD　的中率",99,1.2,100,97.8,96,100,100,9.9,10,9.7799999999999994,9.6,{"$f":"$E$22","v":4.5}]
["MU正答率","MU 3スパン",96.4,4.5999999999999996,100,91.800000000000011,88,100,100,9.64,10,9.1800000000000015,8.8000000000000007,{"$f":"$E$23","v":3.5}]
[null,"MU 4スパン",85,13.3,98.3,71.7,69,100,100,8.5,9.83,7.1700000000000008,6.8999999999999995,{"$f":"$E$24","v":2.5}]
["PASAT正答率","PASAT　2秒",86.9,10.4,97.300000000000011,76.5,75,100,100,8.6900000000000013,9.73,7.65,7.5,{"$f":"$E$25","v":1.5}]
[null,"PASAT　1秒",57.7,14.7,72.400000000000006,43,43,100,100,5.7700000000000005,7.2400000000000011,4.3,4.3,{"$f":"$E$26","v":0.5}]
["CPT2　時間","SRT",298.10000000000002,37.9,336,260.20000000000005,null,800,800,{"$f":"C56/I56*800","v":298.10000000000002},{"$f":"E56/I56*800","v":336},{"$f":"F56/I56*800","v":260.20000000000005},null,{"$f":"N57+1","v":2.5}]
[null,"X",458.7,46.3,505,412.4,null,800,800,{"$f":"C57/I57*800","v":458.7},{"$f":"E57/I57*800","v":505},{"$f":"F57/I57*800","v":412.4},null,{"$f":"N58+1","v":1.5}]
[null,"AX",438.6,55.1,{"$f":"IF(C58+($B$32*D58)>H58,H58,C58+($B$32*D58))","v":493.70000000000005},{"$f":"IF(C58-($B$32*D58)<0,0,C58-($B$32*D58))","v":383.5},null,800,800,{"$f":"C58/I58*800","v":438.6},{"$f":"E58/I58*800","v":493.70000000000005},{"$f":"F58/I58*800","v":383.5},null,0.5]
[]
[]
["M±SD",1,"入力値",null,null,null,null,null,null,"グラフ出力",null,null,null,null,null,null,null,"入力値",null,null,null,null,null,null,"グラフ出力(左記の入力値を変換)",null,null,null,null,null,null,null,null,"グラフ出力(左記の入力値を変換)"]
["30代",null,"平均","SD","SD上","SD下","cutoff","最大値","最大値","平均","SD上","SD下","cutoff","縦軸",null,"30代",null,"平均","SD","SD上","SD下","cutoff","最大値","最大値","平均","SD上","SD下","cutoff","縦軸",null,"30代",null,"最大値","平均","SD上","SD下","cutoff","縦軸"]
["DigitSpan","forward",6.8,1.3,{"$f":"IF(C63+($B$61*D63)>H63,H63,C63+($B$61*D63))","v":8.1},{"$f":"IF(C63-($B$61*D63)<0,0,C63-($B$61*D63))","v":5.5},5,10,10,{"$f":"C63/I63*10","v":6.7999999999999989},{"$f":"E63/I63*10","v":8.1},{"$f":"F63/I63*10","v":5.5},{"$f":"G63/I63*10","v":5},{"$f":"$E$5","v":15.5},null,"CPT2　誤反応","SRT",null,null,{"$f":"IF(R63+($B$61*S63)>W63,W63,R63+($B$61*S63))","v":0},{"$f":"IF(R63-($B$61*S63)<0,0,R63-($B$61*S63))","v":0},4,20,{"$f":"W63","v":20},{"$f":"R63/X63*10","v":0},{"$f":"T63/X63*10","v":0},{"$f":"U63/X63*10","v":0},{"$f":"V63/X63*10","v":2},{"$f":"AC64+1","v":2.5},null,"DigitSpan","forward",{"$f":"I63","v":10},6.7999999999999989,8.1,5.5,5,{"$f":"AL64+1","v":11.5}]
[null,"backward",5.2,0.7,{"$f":"IF(C64+($B$61*D64)>H64,H64,C64+($B$61*D64))","v":5.9},{"$f":"IF(C64-($B$61*D64)<0,0,C64-($B$61*D64))","v":4.5},4,10,10,5.2,5.9,4.5,{"$f":"G64/I64*10","v":4},{"$f":"$E$6","v":14.5},null,null,"X",null,null,{"$f":"IF(R64+($B$61*S64)>W64,W64,R64+($B$61*S64))","v":0},{"$f":"IF(R64-($B$61*S64)<0,0,R64-($B$61*S64))","v":0},10,20,{"$f":"W64","v":20},{"$f":"R64/X64*10","v":0},{"$f":"T64/X64*10","v":0},{"$f":"U64/X64*10","v":0},{"$f":"V64/X64*10","v":5},{"$f":"AC65+1","v":1.5},null,null,"backward",10,5.2,5.9,4.5,4,10.5]
["Tappimg Span","forward",6.5,1.4,7.9,5.0999999999999996,5,10,10,6.5,7.9,5.0999999999999996,{"$f":"G65/I65*10","v":5},{"$f":"$E$7","v":13.5},null,null,"AX",null,null,0,0,11,20,20,0,{"$f":"T65/X65*10","v":0},0,{"$f":"V65/X65*10","v":5.5},0.5,null,"Tappimg Span","forward",10,6.5,7.9,5.0999999999999996,5,9.5]
[null,"backward",6.2,1.7,7.9,4.5,5,10,10,6.2,7.9,4.5,{"$f":"G66/I66*10","v":5},{"$f":"$E$8","v":12.5},null,"CPT2　正答率","SRT",99.7,0.7,100,99,null,100,100,9.9700000000000006,{"$f":"T66/X66*10","v":10},9.9,null,{"$f":"AC67+1","v":2.5},null,null,"backward",10,6.2,7.9,4.5,5,8.5]
["VC図形△","VC△ 所要時間",33.9,5.7,39.6,28.2,null,210,210,1.6142857142857143,1.8857142857142859,1.342857142857143,null,{"$f":"$E$9","v":11.5},null,null,"X",99.9,0.5,100,99.4,null,100,100,9.990000000000002,10,9.9400000000000013,null,{"$f":"AC68+1","v":1.5},null,"VC図形△","VC△ 正答率",{"$f":"I68","v":100},9.879999999999999,10,9.75,null,7.5]
[null,"VC△ 正答率",98.8,1.3,100,97.5,null,100,100,9.879999999999999,10,9.75,null,{"$f":"$E$10","v":10.5},null,null,"AX",97.9,3.6,100,94.300000000000011,null,100,100,9.7900000000000009,10,9.43,null,0.5,null,null,"VC△ 的中率",100,9.9499999999999993,10,9.77,null,6.5]
[null,"VC△ 的中率",99.5,1.8,100,97.7,null,100,100,9.9499999999999993,10,9.77,null,{"$f":"$E$11","v":9.5},null,"CPT2　的中率","SRT",99.8,0.6,100,99.2,null,100,100,9.98,10,9.92,null,{"$f":"AC70+1","v":2.5},null,"VC図形※","VC※ 正答率",{"$f":"I71","v":100},9.9400000000000013,10,9.8300000000000018,null,5.5]
["VC図形※","VC※ 所要時間",41,7.2,48.2,33.799999999999997,null,210,210,1.9523809523809523,2.2952380952380955,1.6095238095238094,null,{"$f":"$E$12","v":8.5},null,null,"X",99.3,1.5,100,97.8,null,100,100,9.93,10,9.7799999999999994,null,{"$f":"AC71+1","v":1.5},null,null,"VC※ 的中率",100,9.9700000000000006,10,9.81,null,4.5]
[null,"VC※ 正答率",99.4,1.1000000000000001,100,98.300000000000011,null,100,100,9.9400000000000013,10,9.8300000000000018,null,{"$f":"$E$13","v":7.5},null,null,"AX",97.5,2.9,100,94.6,null,100,100,9.75,10,9.4599999999999991,null,0.5,null,"VC 3","VC 3 正答率",{"$f":"I74","v":100},9.9499999999999993,10,9.89,null,3.5]
[null,"VC※ 的中率",99.7,1.6,100,98.100000000000009,null,100,100,9.9700000000000006,10,9.81,null,{"$f":"$E$14","v":6.5},null,"CPT2\n修正正答率","SRT",99.9,0.4,100,99.5,null,100,100,9.990000000000002,10,9.9499999999999993,null,{"$f":"AC73+1","v":2.5},null,null,"VC 3 的中率",100,10,10,9.990000000000002,null,2.5]
["VC 3","VC 3 所要時間",67.7,8.8000000000000007,76.5,58.900000000000006,null,210,210,3.2238095238095239,3.6428571428571428,2.804761904761905,null,{"$f":"$E$15","v":5.5},null,null,"X",99.7,0.6,100,99.100000000000009,null,100,100,9.9700000000000006,10,9.91,null,{"$f":"AC74+1","v":1.5},null,"VC か","VC か 正答率",{"$f":"I77","v":100},9.82,9.990000000000002,9.65,null,{"$f":"AL74+1","v":1.5}]
[null,"VC 3 正答率",99.5,0.6,100,98.9,null,100,100,{"$f":"C74/I74*10","v":9.9499999999999993},{"$f":"E74/I74*10","v":10},{"$f":"F74/I74*10","v":9.89},null,{"$f":"$E$16","v":4.5},null,null,"AX",97.6,3.6,100,94,null,100,100,9.76,10,9.3999999999999986,null,0.5,null,null,"VC か 的中率",100,9.990000000000002,10,9.9600000000000009,null,0.5]
[null,"VC 3 的中率",100,0.1,100,99.9,null,100,100,10,10,9.990000000000002,null,{"$f":"$E$17","v":3.5},null,"CPT2\n変動係数","SRT",12.2,4.0999999999999996,16.299999999999997,8.1,null,30,30,4.0666666666666664,5.4333333333333318,2.6999999999999997,null,{"$f":"AC76+1","v":2.5}]
["VC か","VC か 所要時間",83.5,11.1,94.6,72.400000000000006,null,210,210,3.9761904761904758,4.5047619047619047,3.4476190476190478,null,{"$f":"$E$18","v":2.5},null,null,"X",12.2,2.8,15,9.3999999999999986,null,30,30,4.0666666666666664,5,3.1333333333333329,null,{"$f":"AC77+1","v":1.5},null,"VC\n所要時間","VC△",{"$f":"I70","v":210},{"$f":"J70","v":1.9523809523809523},{"$f":"K70","v":2.2952380952380955},{"$f":"L70","v":1.6095238095238094},null,{"$f":"AL77+1","v":3.5}]
[null,"VC か 正答率",98.2,1.7,99.9,96.5,null,100,100,9.82,9.990000000000002,9.65,null,{"$f":"$E$19","v":1.5},null,null,"AX",14.6,4.5,19.100000000000001,10.1,null,30,30,4.8666666666666663,6.3666666666666671,3.3666666666666667,null,0.5,null,null,"VC※",{"$f":"I70","v":210},{"$f":"J70","v":1.9523809523809523},{"$f":"K70","v":2.2952380952380955},{"$f":"L70","v":1.6095238095238094},null,{"$f":"AL78+1","v":2.5}]
[null,"VC か 的中率",99.9,0.3,100,99.600000000000009,null,100,100,9.990000000000002,10,9.9600000000000009,null,{"$f":"$E$20","v":0.5},null,null,null,null,null,null,null,null,null,null,null,null,null,null,null,null,null,"VC 3",{"$f":"I73","v":210},{"$f":"J73","v":3.2238095238095239},{"$f":"K73","v":3.6428571428571428},{"$f":"L73","v":2.804761904761905},null,{"$f":"AL79+1","v":1.5}]
["AD","AD　正答率",99.2,1.3,100,97.9,96,100,100,9.92,10,9.7900000000000009,{"$f":"G79/I79*10","v":9.6},{"$f":"$E$21","v":5.5},null,null,null,null,null,null,null,null,null,null,null,null,null,null,null,null,null,"VC か",{"$f":"I76","v":210},{"$f":"J76","v":3.9761904761904758},{"$f":"K76","v":4.5047619047619047},{"$f":"L76","v":3.4476190476190478},null,0.5]
[null,"AD　的中率",98.4,1.8,100,96.600000000000009,96,100,100,9.8400000000000016,10,9.66,9.6,{"$f":"$E$22","v":4.5}]
["MU正答率","MU 3スパン",90.5,9.1999999999999993,99.7,81.3,81,100,100,9.0500000000000007,9.9700000000000006,8.129999999999999,8.1000000000000014,{"$f":"$E$23","v":3.5}]
[null,"MU 4スパン",78.099999999999994,16.399999999999999,94.5,61.699999999999996,63,100,100,7.8099999999999987,9.4499999999999993,6.17,6.3,{"$f":"$E$24","v":2.5}]
["PASAT正答率","PASAT　2秒",82.7,12.8,95.5,69.900000000000006,68,100,100,8.2700000000000014,9.5499999999999989,6.99,6.8000000000000007,{"$f":"$E$25","v":1.5}]
[null,"PASAT　1秒",51.7,16.399999999999999,68.099999999999994,35.300000000000004,35,100,100,5.17,6.81,3.5300000000000002,3.5,{"$f":"$E$26","v":0.5}]
["CPT2","SRT　平均",{"$f":"C56","v":298.10000000000002},37.9,336,260.20000000000005,null,800,800,{"$f":"C85/I85*800","v":298.10000000000002},{"$f":"E85/I85*800","v":336},{"$f":"F85/I85*800","v":260.20000000000005},null,{"$f":"$E$27","v":2.5}]
[null,"X　平均",458.7,46.3,505,412.4,null,800,800,{"$f":"C86/I86*800","v":458.7},{"$f":"E86/I86*800","v":505},{"$f":"F86/I86*800","v":412.4},null,{"$f":"$E$28","v":1.5}]
[null,"AX　平均",438.6,55.1,493.70000000000005,383.5,null,800,800,{"$f":"C87/I87*800","v":438.6},{"$f":"E87/I87*800","v":493.70000000000005},{"$f":"F87/I87*800","v":383.5},null,{"$f":"$E$29","v":0.5}]
[]
[]
["M±SD",1,"入力値",null,null,null,null,null,null,"グラフ出力",null,null,null,null,null,null,null,"入力値",null,null,null,null,null,null,"グラフ出力(左記の入力値を変換)",null,null,null,null,null,null,null,null,"グラフ出力(左記の入力値を変換)"]
["40代",null,"平均","SD","SD上","SD下","cutoff","最大値","最大値","平均","SD上","SD下","cutoff","縦軸",null,"40代",null,"平均","SD","SD上","SD下","cutoff","最大値","最大値","平均","SD上","SD下","cutoff","縦軸",null,"40代",null,"最大値","平均","SD上","SD下","cutoff","縦軸"]
["DigitSpan","forward",6.6,1.4,{"$f":"IF(C92+($B$90*D92)>H92,H92,C92+($B$90*D92))","v":8},{"$f":"IF(C92-($B$90*D92)<0,0,C92-($B$90*D92))","v":5.1999999999999993},5,10,10,{"$f":"C92/I92*10","v":6.6},{"$f":"E92/I92*10","v":8},{"$f":"F92/I92*10","v":5.1999999999999993},{"$f":"G92/I92*10","v":5},{"$f":"$E$5","v":15.5},null,"CPT2　誤反応","SRT",null,null,{"$f":"IF(R92+($B$90*S92)>W92,W92,R92+($B$90*S92))","v":0},{"$f":"IF(R92-($B$90*S92)<0,0,R92-($B$90*S92))","v":0},4,20,{"$f":"W92","v":20},{"$f":"R92/X92*10","v":0},{"$f":"T92/X92*10","v":0},{"$f":"U92/X92*10","v":0},{"$f":"V92/X92*10","v":2},{"$f":"AC93+1","v":2.5},null,"DigitSpan","forward",{"$f":"I92","v":10},6.6,8,5.1999999999999993,5,{"$f":"AL93+1","v":11.5}]
[null,"backward",4.5999999999999996,0.6,{"$f":"IF(C93+($B$90*D93)>H93,H93,C93+($B$90*D93))","v":5.1999999999999993},{"$f":"IF(C93-($B$90*D93)<0,0,C93-($B$90*D93))","v":3.9999999999999996},4,10,10,4.5999999999999996,5.1999999999999993,3.9999999999999996,{"$f":"G93/I93*10","v":4},{"$f":"$E$6","v":14.5},null,null,"X",null,null,{"$f":"IF(R93+($B$90*S93)>W93,W93,R93+($B$90*S93))","v":0},{"$f":"IF(R93-($B$90*S93)<0,0,R93-($B$90*S93))","v":0},10,20,{"$f":"W93","v":20},{"$f":"R93/X93*10","v":0},{"$f":"T93/X93*10","v":0},{"$f":"U93/X93*10","v":0},{"$f":"V93/X93*10","v":5},{"$f":"AC94+1","v":1.5},null,null,"backward",10,4.5999999999999996,5.1999999999999993,3.9999999999999996,4,10.5]
["Tappimg Span","forward",6.3,1.3,7.6,5,5,10,10,6.3,7.6,5,{"$f":"G94/I94*10","v":5},{"$f":"$E$7","v":13.5},null,null,"AX",null,null,0,0,11,20,20,0,{"$f":"T94/X94*10","v":0},0,{"$f":"V94/X94*10","v":5.5},0.5,null,"Tappimg Span","forward",10,6.3,7.6,5,5,9.5]
[null,"backward",5.9,1.4,7.3000000000000007,4.5,4,10,10,5.9,7.3000000000000007,4.5,{"$f":"G95/I95*10","v":4},{"$f":"$E$8","v":12.5},null,"CPT2　正答率","SRT",99.7,0.7,100,99,null,100,100,9.9700000000000006,{"$f":"T95/X95*10","v":10},9.9,null,{"$f":"AC96+1","v":2.5},null,null,"backward",10,5.9,7.3000000000000007,4.5,4,8.5]
["VC図形△","VC△ 所要時間",36,5.9,41.9,30.1,null,210,210,1.7142857142857144,1.9952380952380953,1.4333333333333333,null,{"$f":"$E$9","v":11.5},null,null,"X",99.9,0.5,100,99.4,null,100,100,9.990000000000002,10,9.9400000000000013,null,{"$f":"AC97+1","v":1.5},null,"VC図形△","VC△ 正答率",{"$f":"I97","v":100},9.879999999999999,10,9.6999999999999993,null,7.5]
[null,"VC△ 正答率",98.8,1.8,100,97,null,100,100,9.879999999999999,10,9.6999999999999993,null,{"$f":"$E$10","v":10.5},null,null,"AX",97.9,3.6,100,94.300000000000011,null,100,100,9.7900000000000009,10,9.43,null,0.5,null,null,"VC△ 的中率",100,9.98,10,9.83,null,6.5]
[null,"VC△ 的中率",99.8,1.5,100,98.3,null,100,100,9.98,10,9.83,null,{"$f":"$E$11","v":9.5},null,"CPT2　的中率","SRT",99.8,0.6,100,99.2,null,100,100,9.98,10,9.92,null,{"$f":"AC99+1","v":2.5},null,"VC図形※","VC※ 正答率",{"$f":"I100","v":100},9.9400000000000013,10,9.8300000000000018,null,5.5]
["VC図形※","VC※ 所要時間",42.1,6.5,48.6,35.6,null,210,210,2.0047619047619047,2.3142857142857141,1.6952380952380952,null,{"$f":"$E$12","v":8.5},null,null,"X",99.3,1.5,100,97.8,null,100,100,9.93,10,9.7799999999999994,null,{"$f":"AC100+1","v":1.5},null,null,"VC※ 的中率",100,9.9700000000000006,10,9.83,null,4.5]
[null,"VC※ 正答率",99.4,1.1000000000000001,100,98.300000000000011,null,100,100,9.9400000000000013,10,9.8300000000000018,null,{"$f":"$E$13","v":7.5},null,null,"AX",97.5,2.9,100,94.6,null,100,100,9.75,10,9.4599999999999991,null,0.5,null,"VC 3","VC 3 正答率",{"$f":"I103","v":100},9.9600000000000009,10,9.9,null,3.5]
[null,"VC※ 的中率",99.7,1.4,100,98.3,null,100,100,9.9700000000000006,10,9.83,null,{"$f":"$E$14","v":6.5},null,"CPT2\n修正正答率","SRT",99.9,0.4,100,99.5,null,100,100,9.990000000000002,10,9.9499999999999993,null,{"$f":"AC102+1","v":2.5},null,null,"VC 3 的中率",100,9.990000000000002,10,9.91,null,2.5]
["VC 3","VC 3 所要時間",68.599999999999994,8.6999999999999993,77.3,59.899999999999991,null,210,210,3.2666666666666666,3.6809523809523808,2.852380952380952,null,{"$f":"$E$15","v":5.5},null,null,"X",99.7,0.6,100,99.100000000000009,null,100,100,9.9700000000000006,10,9.91,null,{"$f":"AC103+1","v":1.5},null,"VC か","VC か 正答率",{"$f":"I106","v":100},9.76,10,9.5199999999999978,null,{"$f":"AL103+1","v":1.5}]
[null,"VC 3 正答率",99.6,0.6,100,99,null,100,100,{"$f":"C103/I103*10","v":9.9600000000000009},{"$f":"E103/I103*10","v":10},{"$f":"F103/I103*10","v":9.9},null,{"$f":"$E$16","v":4.5},null,null,"AX",97.6,3.6,100,94,null,100,100,9.76,10,9.3999999999999986,null,0.5,null,null,"VC か 的中率",100,9.9600000000000009,10,9.8000000000000007,null,0.5]
[null,"VC 3 的中率",99.9,0.8,100,99.100000000000009,null,100,100,9.990000000000002,10,9.91,null,{"$f":"$E$17","v":3.5},null,"CPT2\n変動係数","SRT",12.2,4.0999999999999996,16.299999999999997,8.1,null,30,30,4.0666666666666664,5.4333333333333318,2.6999999999999997,null,{"$f":"AC105+1","v":2.5}]
["VC か","VC か 所要時間",89.8,14,103.8,75.8,null,210,210,4.2761904761904761,4.9428571428571431,3.6095238095238091,null,{"$f":"$E$18","v":2.5},null,null,"X",12.2,2.8,15,9.3999999999999986,null,30,30,4.0666666666666664,5,3.1333333333333329,null,{"$f":"AC106+1","v":1.5},null,"VC\n所要時間","VC△",{"$f":"I99","v":210},{"$f":"J99","v":2.0047619047619047},{"$f":"K99","v":2.3142857142857141},{"$f":"L99","v":1.6952380952380952},null,{"$f":"AL106+1","v":3.5}]
[null,"VC か 正答率",97.6,2.4,100,95.199999999999989,null,100,100,9.76,10,9.5199999999999978,null,{"$f":"$E$19","v":1.5},null,null,"AX",14.6,4.5,19.100000000000001,10.1,null,30,30,4.8666666666666663,6.3666666666666671,3.3666666666666667,null,0.5,null,null,"VC※",{"$f":"I99","v":210},{"$f":"J99","v":2.0047619047619047},{"$f":"K99","v":2.3142857142857141},{"$f":"L99","v":1.6952380952380952},null,{"$f":"AL107+1","v":2.5}]
[null,"VC か 的中率",99.6,1.6,100,98,null,100,100,9.9600000000000009,10,9.8000000000000007,null,{"$f":"$E$20","v":0.5},null,null,null,null,null,null,null,null,null,null,null,null,null,null,null,null,null,"VC 3",{"$f":"I102","v":210},{"$f":"J102","v":3.2666666666666666},{"$f":"K102","v":3.6809523809523808},{"$f":"L102","v":2.852380952380952},null,{"$f":"AL108+1","v":1.5}]
["AD","AD　正答率",97.1,3.5,100,93.6,94,100,100,9.7099999999999991,10,9.36,{"$f":"G108/I108*10","v":9.3999999999999986},{"$f":"$E$21","v":5.5},null,null,null,null,null,null,null,null,null,null,null,null,null,null,null,null,null,"VC か",{"$f":"I105","v":210},{"$f":"J105","v":4.2761904761904761},{"$f":"K105","v":4.9428571428571431},{"$f":"L105","v":3.6095238095238091},null,0.5]
[null,"AD　的中率",97.5,3.4,100,94.1,94,100,100,9.75,10,9.41,9.3999999999999986,{"$f":"$E$22","v":4.5}]
["MU正答率","MU 3スパン",89.8,8.1,97.899999999999991,81.7,81,100,100,8.98,9.7899999999999991,8.17,8.1000000000000014,{"$f":"$E$23","v":3.5}]
[null,"MU 4スパン",75.099999999999994,15.5,90.6,59.599999999999994,63,100,100,7.5099999999999989,9.0599999999999987,5.96,6.3,{"$f":"$E$24","v":2.5}]
["PASAT正答率","PASAT　2秒",80.2,14.3,94.5,65.900000000000006,52,100,100,8.02,9.4499999999999993,6.59,5.2,{"$f":"$E$25","v":1.5}]
[null,"PASAT　1秒",47.9,12,59.9,35.9,32,100,100,4.79,5.99,3.59,3.2,{"$f":"$E$26","v":0.5}]
["CPT2","SRT　平均",{"$f":"C85","v":298.10000000000002},37.9,336,260.20000000000005,null,800,800,{"$f":"C114/I114*800","v":298.10000000000002},{"$f":"E114/I114*800","v":336},{"$f":"F114/I114*800","v":260.20000000000005},null,{"$f":"$E$27","v":2.5}]
[null,"X　平均",458.7,46.3,505,412.4,null,800,800,{"$f":"C115/I115*800","v":458.7},{"$f":"E115/I115*800","v":505},{"$f":"F115/I115*800","v":412.4},null,{"$f":"$E$28","v":1.5}]
[null,"AX　平均",438.6,55.1,493.70000000000005,383.5,null,800,800,{"$f":"C116/I116*800","v":438.6},{"$f":"E116/I116*800","v":493.70000000000005},{"$f":"F116/I116*800","v":383.5},null,{"$f":"$E$29","v":0.5}]
[]
[]
["M±SD",1,"入力値",null,null,null,null,null,null,"グラフ出力",null,null,null,null,null,null,null,"入力値",null,null,null,null,null,null,"グラフ出力(左記の入力値を変換)",null,null,null,null,null,null,null,null,"グラフ出力(左記の入力値を変換)"]
["50代",null,"平均","SD","SD上","SD下","cutoff","最大値","最大値","平均","SD上","SD下","cutoff","縦軸",null,"50代",null,"平均","SD","SD上","SD下","cutoff","最大値","最大値","平均","SD上","SD下","cutoff","縦軸",null,"50代",null,"最大値","平均","SD上","SD下","cutoff","縦軸"]
["DigitSpan","forward",6.4,1.3,{"$f":"IF(C121+($B$119*D121)>H121,H121,C121+($B$119*D121))","v":7.7},{"$f":"IF(C121-($B$119*D121)<0,0,C121-($B$119*D121))","v":5.1000000000000005},5,10,10,{"$f":"C121/I121*10","v":6.4},{"$f":"E121/I121*10","v":7.7},{"$f":"F121/I121*10","v":5.0999999999999996},{"$f":"G121/I121*10","v":5},{"$f":"$E$5","v":15.5},null,"CPT2　誤反応","SRT",null,null,{"$f":"IF(R121+($B$119*S121)>W121,W121,R121+($B$119*S121))","v":0},{"$f":"IF(R121-($B$119*S121)<0,0,R121-($B$119*S121))","v":0},4,20,{"$f":"W121","v":20},{"$f":"R121/X121*10","v":0},{"$f":"T121/X121*10","v":0},{"$f":"U121/X121*10","v":0},{"$f":"V121/X121*10","v":2},{"$f":"AC122+1","v":2.5},null,"DigitSpan","forward",{"$f":"I121","v":10},6.4,7.7,5.0999999999999996,5,{"$f":"AL122+1","v":11.5}]
[null,"backward",4.4000000000000004,0.9,{"$f":"IF(C122+($B$119*D122)>H122,H122,C122+($B$119*D122))","v":5.3000000000000007},{"$f":"IF(C122-($B$119*D122)<0,0,C122-($B$119*D122))","v":3.5000000000000004},3,10,10,4.4000000000000004,5.3000000000000007,3.5000000000000004,{"$f":"G122/I122*10","v":3},{"$f":"$E$6","v":14.5},null,null,"X",null,null,{"$f":"IF(R122+($B$119*S122)>W122,W122,R122+($B$119*S122))","v":0},{"$f":"IF(R122-($B$119*S122)<0,0,R122-($B$119*S122))","v":0},10,20,{"$f":"W122","v":20},{"$f":"R122/X122*10","v":0},{"$f":"T122/X122*10","v":0},{"$f":"U122/X122*10","v":0},{"$f":"V122/X122*10","v":5},{"$f":"AC123+1","v":1.5},null,null,"backward",10,4.4000000000000004,5.3000000000000007,3.5000000000000004,3,10.5]
["Tappimg Span","forward",5.8,1,6.8,4.8,4,10,10,5.8,6.7999999999999989,4.8,{"$f":"G123/I123*10","v":4},{"$f":"$E$7","v":13.5},null,null,"AX",null,null,0,0,11,20,20,0,{"$f":"T123/X123*10","v":0},0,{"$f":"V123/X123*10","v":5.5},0.5,null,"Tappimg Span","forward",10,5.8,6.7999999999999989,4.8,4,9.5]
[null,"backward",4.9000000000000004,1.2,6.1000000000000005,3.7,4,10,10,4.9000000000000004,6.1000000000000014,3.7,{"$f":"G124/I124*10","v":4},{"$f":"$E$8","v":12.5},null,"CPT2　正答率","SRT",99.7,0.7,100,99,null,100,100,9.9700000000000006,{"$f":"T124/X124*10","v":10},9.9,null,{"$f":"AC125+1","v":2.5},null,null,"backward",10,4.9000000000000004,6.1000000000000014,3.7,4,8.5]
["VC図形△","VC△ 所要時間",40.700000000000003,7.6,48.300000000000004,33.1,null,210,210,1.9380952380952383,2.3000000000000003,1.5761904761904764,null,{"$f":"$E$9","v":11.5},null,null,"X",99.9,0.5,100,99.4,null,100,100,9.990000000000002,10,9.9400000000000013,null,{"$f":"AC126+1","v":1.5},null,"VC図形△","VC△ 正答率",{"$f":"I126","v":100},9.85,10,9.629999999999999,null,7.5]
[null,"VC△ 正答率",98.5,2.2000000000000002,100,96.3,null,100,100,9.85,10,9.629999999999999,null,{"$f":"$E$10","v":10.5},null,null,"AX",97.9,3.6,100,94.300000000000011,null,100,100,9.7900000000000009,10,9.43,null,0.5,null,null,"VC△ 的中率",100,9.9600000000000009,10,9.81,null,6.5]
[null,"VC△ 的中率",99.6,1.5,100,98.1,null,100,100,9.9600000000000009,10,9.81,null,{"$f":"$E$11","v":9.5},null,"CPT2　的中率","SRT",99.8,0.6,100,99.2,null,100,100,9.98,10,9.92,null,{"$f":"AC128+1","v":2.5},null,"VC図形※","VC※ 正答率",{"$f":"I129","v":100},10,10,10,null,5.5]
["VC図形※","VC※ 所要時間",47.8,11.1,58.9,36.699999999999996,null,210,210,2.2761904761904761,2.804761904761905,1.7476190476190472,null,{"$f":"$E$12","v":8.5},null,null,"X",99.3,1.5,100,97.8,null,100,100,9.93,10,9.7799999999999994,null,{"$f":"AC129+1","v":1.5},null,null,"VC※ 的中率",100,9.98,10,9.8899999999999988,null,4.5]
[null,"VC※ 正答率",100,0,100,100,null,100,100,10,10,10,null,{"$f":"$E$13","v":7.5},null,null,"AX",97.5,2.9,100,94.6,null,100,100,9.75,10,9.4599999999999991,null,0.5,null,"VC 3","VC 3 正答率",{"$f":"I132","v":100},9.92,10,9.81,null,3.5]
[null,"VC※ 的中率",99.8,0.9,100,98.899999999999991,null,100,100,9.98,10,9.8899999999999988,null,{"$f":"$E$14","v":6.5},null,"CPT2\n修正正答率","SRT",99.9,0.4,100,99.5,null,100,100,9.990000000000002,10,9.9499999999999993,null,{"$f":"AC131+1","v":2.5},null,null,"VC 3 的中率",100,10,10,10,null,2.5]
["VC 3","VC 3 所要時間",71,9.4,80.400000000000006,61.6,null,210,210,3.3809523809523814,3.8285714285714292,2.9333333333333336,null,{"$f":"$E$15","v":5.5},null,null,"X",99.7,0.6,100,99.100000000000009,null,100,100,9.9700000000000006,10,9.91,null,{"$f":"AC132+1","v":1.5},null,"VC か","VC か 正答率",{"$f":"I135","v":100},9.620000000000001,9.92,9.32,null,{"$f":"AL132+1","v":1.5}]
[null,"VC 3 正答率",99.2,1.1000000000000001,100,98.100000000000009,null,100,100,{"$f":"C132/I132*10","v":9.92},{"$f":"E132/I132*10","v":10},{"$f":"F132/I132*10","v":9.81},null,{"$f":"$E$16","v":4.5},null,null,"AX",97.6,3.6,100,94,null,100,100,9.76,10,9.3999999999999986,null,0.5,null,null,"VC か 的中率",100,9.9400000000000013,10,9.65,null,0.5]
[null,"VC 3 的中率",100,0,100,100,null,100,100,10,10,10,null,{"$f":"$E$17","v":3.5},null,"CPT2\n変動係数","SRT",12.2,4.0999999999999996,16.299999999999997,8.1,null,30,30,4.0666666666666664,5.4333333333333318,2.6999999999999997,null,{"$f":"AC134+1","v":2.5}]
["VC か","VC か 所要時間",94.7,14.7,109.4,80,null,210,210,4.5095238095238095,5.2095238095238097,3.8095238095238093,null,{"$f":"$E$18","v":2.5},null,null,"X",12.2,2.8,15,9.3999999999999986,null,30,30,4.0666666666666664,5,3.1333333333333329,null,{"$f":"AC135+1","v":1.5},null,"VC\n所要時間","VC△",{"$f":"I128","v":210},{"$f":"J128","v":2.2761904761904761},{"$f":"K128","v":2.804761904761905},{"$f":"L128","v":1.7476190476190472},null,{"$f":"AL135+1","v":3.5}]
[null,"VC か 正答率",96.2,3,99.2,93.2,null,100,100,9.620000000000001,9.92,9.32,null,{"$f":"$E$19","v":1.5},null,null,"AX",14.6,4.5,19.100000000000001,10.1,null,30,30,4.8666666666666663,6.3666666666666671,3.3666666666666667,null,0.5,null,null,"VC※",{"$f":"I128","v":210},{"$f":"J128","v":2.2761904761904761},{"$f":"K128","v":2.804761904761905},{"$f":"L128","v":1.7476190476190472},null,{"$f":"AL136+1","v":2.5}]
[null,"VC か 的中率",99.4,2.9,100,96.5,null,100,100,9.9400000000000013,10,9.65,null,{"$f":"$E$20","v":0.5},null,null,null,null,null,null,null,null,null,null,null,null,null,null,null,null,null,"VC 3",{"$f":"I131","v":210},{"$f":"J131","v":3.3809523809523814},{"$f":"K131","v":3.8285714285714292},{"$f":"L131","v":2.9333333333333336},null,{"$f":"AL137+1","v":1.5}]
["AD","AD　正答率",96.8,3.9,100,92.899999999999991,94,100,100,9.68,10,9.2899999999999991,{"$f":"G137/I137*10","v":9.3999999999999986},{"$f":"$E$21","v":5.5},null,null,null,null,null,null,null,null,null,null,null,null,null,null,null,null,null,"VC か",{"$f":"I134","v":210},{"$f":"J134","v":4.5095238095238095},{"$f":"K134","v":5.2095238095238097},{"$f":"L134","v":3.8095238095238093},null,0.5]
[null,"AD　的中率",91.9,8.1999999999999993,100,83.7,91,100,100,9.1900000000000013,10,8.370000000000001,9.1,{"$f":"$E$22","v":4.5}]
["MU正答率","MU 3スパン",81.2,12.9,94.100000000000009,68.3,69,100,100,8.120000000000001,9.41,6.8299999999999992,6.8999999999999995,{"$f":"$E$23","v":3.5}]
[null,"MU 4スパン",60.2,17.399999999999999,77.599999999999994,42.800000000000004,44,100,100,6.02,7.7599999999999989,4.28,4.4000000000000004,{"$f":"$E$24","v":2.5}]
["PASAT正答率","PASAT　2秒",64.599999999999994,23.4,88,41.199999999999996,40,100,100,6.4599999999999991,8.8000000000000007,4.12,4,{"$f":"$E$25","v":1.5}]
[null,"PASAT　1秒",40.200000000000003,13.5,53.7,26.700000000000003,27,100,100,4.0200000000000005,5.37,2.67,2.7,{"$f":"$E$26","v":0.5}]
["CPT2","SRT　平均",{"$f":"C114","v":298.10000000000002},37.9,336,260.20000000000005,null,800,800,{"$f":"C143/I143*800","v":298.10000000000002},{"$f":"E143/I143*800","v":336},{"$f":"F143/I143*800","v":260.20000000000005},null,{"$f":"$E$27","v":2.5}]
[null,"X　平均",458.7,46.3,505,412.4,null,800,800,{"$f":"C144/I144*800","v":458.7},{"$f":"E144/I144*800","v":505},{"$f":"F144/I144*800","v":412.4},null,{"$f":"$E$28","v":1.5}]
[null,"AX　平均",438.6,55.1,493.70000000000005,383.5,null,800,800,{"$f":"C145/I145*800","v":438.6},{"$f":"E145/I145*800","v":493.70000000000005},{"$f":"F145/I145*800","v":383.5},null,{"$f":"$E$29","v":0.5}]
[]
[]
["M±SD",1,"入力値",null,null,null,null,null,null,"グラフ出力",null,null,null,null,null,null,null,"入力値",null,null,null,null,null,null,"グラフ出力(左記の入力値を変換)",null,null,null,null,null,null,null,null,"グラフ出力(左記の入力値を変換)"]
["60代",null,"平均","SD","SD上","SD下","cutoff","最大値","最大値","平均","SD上","SD下","cutoff","縦軸",null,"60代",null,"平均","SD","SD上","SD下","cutoff","最大値","最大値","平均","SD上","SD下","cutoff","縦軸",null,"60代",null,"最大値","平均","SD上","SD下","cutoff","縦軸"]
["DigitSpan","forward",5.8,1,{"$f":"IF(C150+($B$148*D150)>H150,H150,C150+($B$148*D150))","v":6.8},{"$f":"IF(C150-($B$148*D150)<0,0,C150-($B$148*D150))","v":4.8},4,10,10,{"$f":"C150/I150*10","v":5.8},{"$f":"E150/I150*10","v":6.7999999999999989},{"$f":"F150/I150*10","v":4.8},{"$f":"G150/I150*10","v":4},{"$f":"$E$5","v":15.5},null,"CPT2　誤反応","SRT",null,null,{"$f":"IF(R150+($B$148*S150)>W150,W150,R150+($B$148*S150))","v":0},{"$f":"IF(R150-($B$148*S150)<0,0,R150-($B$148*S150))","v":0},4,20,{"$f":"W150","v":20},{"$f":"R150/X150*10","v":0},{"$f":"T150/X150*10","v":0},{"$f":"U150/X150*10","v":0},{"$f":"V150/X150*10","v":2},{"$f":"AC151+1","v":2.5},null,"DigitSpan","forward",{"$f":"I150","v":10},5.8,6.7999999999999989,4.8,4,{"$f":"AL151+1","v":11.5}]
[null,"backward",4.3,0.9,{"$f":"IF(C151+($B$148*D151)>H151,H151,C151+($B$148*D151))","v":5.2},{"$f":"IF(C151-($B$148*D151)<0,0,C151-($B$148*D151))","v":3.4},3,10,10,4.3,5.2,3.3999999999999995,{"$f":"G151/I151*10","v":3},{"$f":"$E$6","v":14.5},null,null,"X",null,null,{"$f":"IF(R151+($B$148*S151)>W151,W151,R151+($B$148*S151))","v":0},{"$f":"IF(R151-($B$148*S151)<0,0,R151-($B$148*S151))","v":0},10,20,{"$f":"W151","v":20},{"$f":"R151/X151*10","v":0},{"$f":"T151/X151*10","v":0},{"$f":"U151/X151*10","v":0},{"$f":"V151/X151*10","v":5},{"$f":"AC152+1","v":1.5},null,null,"backward",10,4.3,5.2,3.3999999999999995,3,10.5]
["Tappimg Span","forward",5.6,0.8,6.3999999999999995,4.8,4,10,10,5.6,6.3999999999999986,4.8,{"$f":"G152/I152*10","v":4},{"$f":"$E$7","v":13.5},null,null,"AX",null,null,0,0,11,20,20,0,{"$f":"T152/X152*10","v":0},0,{"$f":"V152/X152*10","v":5.5},0.5,null,"Tappimg Span","forward",10,5.6,6.3999999999999986,4.8,4,9.5]
[null,"backward",4.8,1.5,6.3,3.3,4,10,10,4.8,6.3,3.3,{"$f":"G153/I153*10","v":4},{"$f":"$E$8","v":12.5},null,"CPT2　正答率","SRT",99.7,0.7,100,99,null,100,100,9.9700000000000006,{"$f":"T153/X153*10","v":10},9.9,null,{"$f":"AC154+1","v":2.5},null,null,"backward",10,4.8,6.3,3.3,4,8.5]
["VC図形△","VC△ 所要時間",45.9,10,55.9,35.9,null,210,210,2.1857142857142855,2.6619047619047622,1.7095238095238094,null,{"$f":"$E$9","v":11.5},null,null,"X",99.9,0.5,100,99.4,null,100,100,9.990000000000002,10,9.9400000000000013,null,{"$f":"AC155+1","v":1.5},null,"VC図形△","VC△ 正答率",{"$f":"I155","v":100},9.75,9.9700000000000006,9.5299999999999994,null,7.5]
[null,"VC△ 正答率",97.5,2.2000000000000002,99.7,95.3,null,100,100,9.75,9.9700000000000006,9.5299999999999994,null,{"$f":"$E$10","v":10.5},null,null,"AX",97.9,3.6,100,94.300000000000011,null,100,100,9.7900000000000009,10,9.43,null,0.5,null,null,"VC△ 的中率",100,9.98,10,9.93,null,6.5]
[null,"VC△ 的中率",99.8,0.5,100,99.3,null,100,100,9.98,10,9.93,null,{"$f":"$E$11","v":9.5},null,"CPT2　的中率","SRT",99.8,0.6,100,99.2,null,100,100,9.98,10,9.92,null,{"$f":"AC157+1","v":2.5},null,"VC図形※","VC※ 正答率",{"$f":"I158","v":100},9.9499999999999993,10,9.85,null,5.5]
["VC図形※","VC※ 所要時間",52.8,11.8,64.599999999999994,41,null,210,210,2.5142857142857138,3.0761904761904759,1.9523809523809523,null,{"$f":"$E$12","v":8.5},null,null,"X",99.3,1.5,100,97.8,null,100,100,9.93,10,9.7799999999999994,null,{"$f":"AC158+1","v":1.5},null,null,"VC※ 的中率",100,9.990000000000002,10,9.9499999999999993,null,4.5]
[null,"VC※ 正答率",99.5,1,100,98.5,null,100,100,9.9499999999999993,10,9.85,null,{"$f":"$E$13","v":7.5},null,null,"AX",97.5,2.9,100,94.6,null,100,100,9.75,10,9.4599999999999991,null,0.5,null,"VC 3","VC 3 正答率",{"$f":"I161","v":100},9.91,10,9.8000000000000007,null,3.5]
[null,"VC※ 的中率",99.9,0.4,100,99.5,null,100,100,9.990000000000002,10,9.9499999999999993,null,{"$f":"$E$14","v":6.5},null,"CPT2\n修正正答率","SRT",99.9,0.4,100,99.5,null,100,100,9.990000000000002,10,9.9499999999999993,null,{"$f":"AC160+1","v":2.5},null,null,"VC 3 的中率",100,10,10,9.9,null,2.5]
["VC 3","VC 3 所要時間",80.8,14.3,95.1,66.5,null,210,210,3.8476190476190473,4.5285714285714285,3.1666666666666665,null,{"$f":"$E$15","v":5.5},null,null,"X",99.7,0.6,100,99.100000000000009,null,100,100,9.9700000000000006,10,9.91,null,{"$f":"AC161+1","v":1.5},null,"VC か","VC か 正答率",{"$f":"I164","v":100},9.61,9.93,9.2899999999999991,null,{"$f":"AL161+1","v":1.5}]
[null,"VC 3 正答率",99.1,1.1000000000000001,100,98,null,100,100,{"$f":"C161/I161*10","v":9.91},{"$f":"E161/I161*10","v":10},{"$f":"F161/I161*10","v":9.8000000000000007},null,{"$f":"$E$16","v":4.5},null,null,"AX",97.6,3.6,100,94,null,100,100,9.76,10,9.3999999999999986,null,0.5,null,null,"VC か 的中率",100,9.990000000000002,10,9.9600000000000009,null,0.5]
[null,"VC 3 的中率",100,1,100,99,null,100,100,10,10,9.9,null,{"$f":"$E$17","v":3.5},null,"CPT2\n変動係数","SRT",12.2,4.0999999999999996,16.299999999999997,8.1,null,30,30,4.0666666666666664,5.4333333333333318,2.6999999999999997,null,{"$f":"AC163+1","v":2.5}]
["VC か","VC か 所要時間",104.1,18.5,122.6,85.6,null,210,210,4.9571428571428564,5.8380952380952378,4.0761904761904759,null,{"$f":"$E$18","v":2.5},null,null,"X",12.2,2.8,15,9.3999999999999986,null,30,30,4.0666666666666664,5,3.1333333333333329,null,{"$f":"AC164+1","v":1.5},null,"VC\n所要時間","VC△",{"$f":"I157","v":210},{"$f":"J157","v":2.5142857142857138},{"$f":"K157","v":3.0761904761904759},{"$f":"L157","v":1.9523809523809523},null,{"$f":"AL164+1","v":3.5}]
[null,"VC か 正答率",96.1,3.2,99.3,92.899999999999991,null,100,100,9.61,9.93,9.2899999999999991,null,{"$f":"$E$19","v":1.5},null,null,"AX",14.6,4.5,19.100000000000001,10.1,null,30,30,4.8666666666666663,6.3666666666666671,3.3666666666666667,null,0.5,null,null,"VC※",{"$f":"I157","v":210},{"$f":"J157","v":2.5142857142857138},{"$f":"K157","v":3.0761904761904759},{"$f":"L157","v":1.9523809523809523},null,{"$f":"AL165+1","v":2.5}]
[null,"VC か 的中率",99.9,0.3,100,99.600000000000009,null,100,100,9.990000000000002,10,9.9600000000000009,null,{"$f":"$E$20","v":0.5},null,null,null,null,null,null,null,null,null,null,null,null,null,null,null,null,null,"VC 3",{"$f":"I160","v":210},{"$f":"J160","v":3.8476190476190473},{"$f":"K160","v":4.5285714285714285},{"$f":"L160","v":3.1666666666666665},null,{"$f":"AL166+1","v":1.5}]
["AD","AD　正答率",96.7,4,100,92.7,94,100,100,9.6700000000000017,10,9.27,{"$f":"G166/I166*10","v":9.3999999999999986},{"$f":"$E$21","v":5.5},null,null,null,null,null,null,null,null,null,null,null,null,null,null,null,null,null,"VC か",{"$f":"I163","v":210},{"$f":"J163","v":4.9571428571428564},{"$f":"K163","v":5.8380952380952378},{"$f":"L163","v":4.0761904761904759},null,0.5]
[null,"AD　的中率",75.2,23.4,98.6,51.800000000000004,null,100,100,7.52,9.86,5.18,{"$f":"IF(G167=\"\",\"\",G167/I167*10)","v":""},{"$f":"$E$22","v":4.5},null,{"$f":"M166","v":9.3999999999999986},{"$f":"N166","v":5.5}]
["MU正答率","MU 3スパン",73,16.600000000000001,89.6,56.4,56,100,100,7.3,8.9599999999999991,5.64,{"$f":"G168/I168*10","v":5.6000000000000005},{"$f":"$E$23","v":3.5},null,{"$f":"M168","v":5.6000000000000005},3.5]
[null,"MU 4スパン",57,20.3,77.3,36.700000000000003,38,100,100,5.6999999999999993,7.73,3.6700000000000004,{"$f":"G169/I169*10","v":3.8},{"$f":"$E$24","v":2.5},null,3.8,2.5]
["PASAT正答率","PASAT　2秒",63.1,24.7,87.8,38.400000000000006,38,100,100,6.3100000000000005,8.7799999999999994,3.8400000000000007,{"$f":"G170/I170*10","v":3.8},{"$f":"$E$25","v":1.5},null,3.8,1.5]
[null,"PASAT　1秒",40.299999999999997,14.1,54.4,26.199999999999996,23,100,100,4.0299999999999994,5.44,2.6199999999999997,{"$f":"G171/I171*10","v":2.3000000000000003},{"$f":"$E$26","v":0.5},null,2.3000000000000003,0.5]
["CPT2","SRT　平均",{"$f":"C143","v":298.10000000000002},{"$f":"D143","v":37.9},336,260.20000000000005,null,800,800,{"$f":"C172/I172*800","v":298.10000000000002},{"$f":"E172/I172*800","v":336},{"$f":"F172/I172*800","v":260.20000000000005},null,{"$f":"$E$27","v":2.5}]
[null,"X　平均",{"$f":"C144","v":458.7},{"$f":"D144","v":46.3},505,412.4,null,800,800,{"$f":"C173/I173*800","v":458.7},{"$f":"E173/I173*800","v":505},{"$f":"F173/I173*800","v":412.4},null,{"$f":"$E$28","v":1.5}]
[null,"AX　平均",493,59.8,552.79999999999995,433.2,null,800,800,{"$f":"C174/I174*800","v":493},{"$f":"E174/I174*800","v":552.79999999999995},{"$f":"F174/I174*800","v":433.2},null,{"$f":"$E$29","v":0.5}]
[]
[]
["M±SD",1,"入力値",null,null,null,null,null,null,"グラフ出力",null,null,null,null,null,null,null,"入力値",null,null,null,null,null,null,"グラフ出力(左記の入力値を変換)",null,null,null,null,null,null,null,null,"グラフ出力(左記の入力値を変換)"]
["70代",null,"平均","SD","SD上","SD下","cutoff","最大値","最大値","平均","SD上","SD下","cutoff","縦軸",null,"70代",null,"平均","SD","SD上","SD下","cutoff","最大値","最大値","平均","SD上","SD下","cutoff","縦軸",null,"70代",null,"最大値","平均","SD上","SD下","cutoff","縦軸"]
["DigitSpan","forward",5.4,0.8,{"$f":"IF(C179+($B$177*D179)>H179,H179,C179+($B$177*D179))","v":6.2},{"$f":"IF(C179-($B$177*D179)<0,0,C179-($B$177*D179))","v":4.6000000000000005},4,10,10,{"$f":"C179/I179*10","v":5.4},{"$f":"E179/I179*10","v":6.2},{"$f":"F179/I179*10","v":4.6000000000000005},{"$f":"G179/I179*10","v":4},{"$f":"$E$5","v":15.5},null,"CPT2　誤反応","SRT",null,null,{"$f":"IF(R179+($B$177*S179)>W179,W179,R179+($B$177*S179))","v":0},{"$f":"IF(R179-($B$177*S179)<0,0,R179-($B$177*S179))","v":0},4,20,{"$f":"W179","v":20},{"$f":"R179/X179*10","v":0},{"$f":"T179/X179*10","v":0},{"$f":"U179/X179*10","v":0},{"$f":"V179/X179*10","v":2},{"$f":"AC180+1","v":2.5},null,"DigitSpan","forward",{"$f":"I179","v":10},5.4,6.2,4.6000000000000005,4,{"$f":"AL180+1","v":11.5}]
[null,"backward",4.0999999999999996,0.9,{"$f":"IF(C180+($B$177*D180)>H180,H180,C180+($B$177*D180))","v":5},{"$f":"IF(C180-($B$177*D180)<0,0,C180-($B$177*D180))","v":3.1999999999999997},3,10,10,4.0999999999999996,5,3.1999999999999993,{"$f":"G180/I180*10","v":3},{"$f":"$E$6","v":14.5},null,null,"X",null,null,{"$f":"IF(R180+($B$177*S180)>W180,W180,R180+($B$177*S180))","v":0},{"$f":"IF(R180-($B$177*S180)<0,0,R180-($B$177*S180))","v":0},10,20,{"$f":"W180","v":20},{"$f":"R180/X180*10","v":0},{"$f":"T180/X180*10","v":0},{"$f":"U180/X180*10","v":0},{"$f":"V180/X180*10","v":5},{"$f":"AC181+1","v":1.5},null,null,"backward",10,4.0999999999999996,5,3.1999999999999993,3,10.5]
["Tappimg Span","forward",5.3,0.9,6.2,4.3999999999999995,4,10,10,5.3000000000000007,6.2,4.3999999999999995,{"$f":"G181/I181*10","v":4},{"$f":"$E$7","v":13.5},null,null,"AX",null,null,0,0,11,20,20,0,{"$f":"T181/X181*10","v":0},0,{"$f":"V181/X181*10","v":5.5},0.5,null,"Tappimg Span","forward",10,5.3000000000000007,6.2,4.3999999999999995,4,9.5]
[null,"backward",4.9000000000000004,1.2,6.1000000000000005,3.7,4,10,10,4.9000000000000004,6.1000000000000014,3.7,{"$f":"G182/I182*10","v":4},{"$f":"$E$8","v":12.5},null,"CPT2　正答率","SRT",99.7,0.7,100,99,null,100,100,9.9700000000000006,{"$f":"T182/X182*10","v":10},9.9,null,{"$f":"AC183+1","v":2.5},null,null,"backward",10,4.9000000000000004,6.1000000000000014,3.7,4,8.5]
["VC図形△","VC△ 所要時間",58.4,13.8,72.2,44.599999999999994,null,210,210,2.7809523809523808,3.4380952380952383,2.1238095238095238,null,{"$f":"$E$9","v":11.5},null,null,"X",99.9,0.5,100,99.4,null,100,100,9.990000000000002,10,9.9400000000000013,null,{"$f":"AC184+1","v":1.5},null,"VC図形△","VC△ 正答率",{"$f":"I184","v":100},9.65,10,9.3000000000000007,null,7.5]
[null,"VC△ 正答率",96.5,3.5,100,93,null,100,100,9.65,10,9.3000000000000007,null,{"$f":"$E$10","v":10.5},null,null,"AX",97.9,3.6,100,94.300000000000011,null,100,100,9.7900000000000009,10,9.43,null,0.5,null,null,"VC△ 的中率",100,9.990000000000002,10,9.9400000000000013,null,6.5]
[null,"VC△ 的中率",99.9,0.5,100,99.4,null,100,100,9.990000000000002,10,9.9400000000000013,null,{"$f":"$E$11","v":9.5},null,"CPT2　的中率","SRT",99.8,0.6,100,99.2,null,100,100,9.98,10,9.92,null,{"$f":"AC186+1","v":2.5},null,"VC図形※","VC※ 正答率",{"$f":"I187","v":100},9.91,10,9.7799999999999994,null,5.5]
["VC図形※","VC※ 所要時間",67.400000000000006,16.100000000000001,83.5,51.300000000000004,null,210,210,3.2095238095238097,3.9761904761904758,2.4428571428571431,null,{"$f":"$E$12","v":8.5},null,null,"X",99.3,1.5,100,97.8,null,100,100,9.93,10,9.7799999999999994,null,{"$f":"AC187+1","v":1.5},null,null,"VC※ 的中率",100,10,10,9.9700000000000006,null,4.5]
[null,"VC※ 正答率",99.1,1.3,100,97.8,null,100,100,9.91,10,9.7799999999999994,null,{"$f":"$E$13","v":7.5},null,null,"AX",97.5,2.9,100,94.6,null,100,100,9.75,10,9.4599999999999991,null,0.5,null,"VC 3","VC 3 正答率",{"$f":"I190","v":100},9.85,10,9.6700000000000017,null,3.5]
[null,"VC※ 的中率",100,0.3,100,99.7,null,100,100,10,10,9.9700000000000006,null,{"$f":"$E$14","v":6.5},null,"CPT2\n修正正答率","SRT",99.9,0.4,100,99.5,null,100,100,9.990000000000002,10,9.9499999999999993,null,{"$f":"AC189+1","v":2.5},null,null,"VC 3 的中率",100,10,10,9.98,null,2.5]
["VC 3","VC 3 所要時間",103.7,23.2,126.9,80.5,null,210,210,4.9380952380952383,6.0428571428571427,3.8333333333333335,null,{"$f":"$E$15","v":5.5},null,null,"X",99.7,0.6,100,99.100000000000009,null,100,100,9.9700000000000006,10,9.91,null,{"$f":"AC190+1","v":1.5},null,"VC か","VC か 正答率",{"$f":"I193","v":100},9.5400000000000009,9.91,9.17,null,{"$f":"AL190+1","v":1.5}]
[null,"VC 3 正答率",98.5,1.8,100,96.7,null,100,100,{"$f":"C190/I190*10","v":9.85},{"$f":"E190/I190*10","v":10},{"$f":"F190/I190*10","v":9.6700000000000017},null,{"$f":"$E$16","v":4.5},null,null,"AX",97.6,3.6,100,94,null,100,100,9.76,10,9.3999999999999986,null,0.5,null,null,"VC か 的中率",100,9.98,10,9.92,null,0.5]
[null,"VC 3 的中率",100,0.2,100,99.8,null,100,100,10,10,9.98,null,{"$f":"$E$17","v":3.5},null,"CPT2\n変動係数","SRT",16.7,6.2,22.9,10.5,null,30,30,5.5666666666666664,7.6333333333333329,3.5,null,{"$f":"AC192+1","v":2.5}]
["VC か","VC か 所要時間",132.30000000000001,24.3,156.60000000000002,108.00000000000001,null,210,210,6.3,7.4571428571428573,5.1428571428571432,null,{"$f":"$E$18","v":2.5},null,null,"X",12.2,2.8,15,9.3999999999999986,null,30,30,4.0666666666666664,5,3.1333333333333329,null,{"$f":"AC193+1","v":1.5},null,"VC\n所要時間","VC△",{"$f":"I186","v":210},{"$f":"J186","v":3.2095238095238097},{"$f":"K186","v":3.9761904761904758},{"$f":"L186","v":2.4428571428571431},null,{"$f":"AL193+1","v":3.5}]
[null,"VC か 正答率",95.4,3.7,99.100000000000009,91.7,null,100,100,9.5400000000000009,9.91,9.17,null,{"$f":"$E$19","v":1.5},null,null,"AX",14.6,4.5,19.100000000000001,10.1,null,30,30,4.8666666666666663,6.3666666666666671,3.3666666666666667,null,0.5,null,null,"VC※",{"$f":"I186","v":210},{"$f":"J186","v":3.2095238095238097},{"$f":"K186","v":3.9761904761904758},{"$f":"L186","v":2.4428571428571431},null,{"$f":"AL194+1","v":2.5}]
[null,"VC か 的中率",99.8,0.6,100,99.2,null,100,100,9.98,10,9.92,null,{"$f":"$E$20","v":0.5},null,null,null,null,null,null,null,null,null,null,null,null,null,null,null,null,null,"VC 3",{"$f":"I189","v":210},{"$f":"J189","v":4.9380952380952383},{"$f":"K189","v":6.0428571428571427},{"$f":"L189","v":3.8333333333333335},null,{"$f":"AL195+1","v":1.5}]
["AD","AD　正答率",96.5,3.6,100,92.9,94,100,100,9.65,10,9.2900000000000009,{"$f":"G195/I195*10","v":9.3999999999999986},{"$f":"$E$21","v":5.5},null,null,null,null,null,null,null,null,null,null,null,null,null,null,null,null,null,"VC か",{"$f":"I192","v":210},{"$f":"J192","v":6.3},{"$f":"K192","v":7.4571428571428573},{"$f":"L192","v":5.1428571428571432},null,0.5]
[null,"AD　的中率",67.8,23.2,91,44.599999999999994,null,100,100,6.7799999999999994,9.1,4.4599999999999991,{"$f":"IF(G196=\"\",\"\",G196/I196*10)","v":""},{"$f":"$E$22","v":4.5},null,{"$f":"M195","v":9.3999999999999986},{"$f":"N195","v":5.5}]
["MU正答率","MU 3スパン",71.2,18.2,89.4,53,50,100,100,7.120000000000001,8.94,5.3000000000000007,{"$f":"G197/I197*10","v":5},{"$f":"$E$23","v":3.5},null,{"$f":"M197","v":5},3.5]
[null,"MU 4スパン",49.1,21.8,70.900000000000006,27.3,25,100,100,4.91,7.0900000000000007,2.7300000000000004,{"$f":"G198/I198*10","v":2.5},{"$f":"$E$24","v":2.5},null,2.5,2.5]
["PASAT正答率","PASAT　2秒",49.7,19.600000000000001,69.300000000000011,30.1,30,100,100,4.9700000000000006,6.9300000000000006,3.01,{"$f":"G199/I199*10","v":3},{"$f":"$E$25","v":1.5},null,3,1.5]
[null,"PASAT　1秒",34.5,14.4,48.9,20.100000000000001,17,100,100,3.4499999999999997,4.8899999999999997,2.0100000000000002,{"$f":"G200/I200*10","v":1.7000000000000002},{"$f":"$E$26","v":0.5},null,1.7000000000000002,0.5]
["CPT2","SRT　平均",{"$f":"C172","v":298.10000000000002},{"$f":"D172","v":37.9},336,260.20000000000005,null,800,800,{"$f":"C201/I201*800","v":298.10000000000002},{"$f":"E201/I201*800","v":336},{"$f":"F201/I201*800","v":260.20000000000005},null,{"$f":"$E$27","v":2.5}]
[null,"X　平均",493,43.3,536.29999999999995,449.7,null,800,800,{"$f":"C202/I202*800","v":493},{"$f":"E202/I202*800","v":536.29999999999995},{"$f":"F202/I202*800","v":449.7},null,{"$f":"$E$28","v":1.5}]
[null,"AX　平均",{"$f":"C174","v":493},{"$f":"D174","v":59.8},552.79999999999995,433.2,null,800,800,{"$f":"C203/I203*800","v":493},{"$f":"E203/I203*800","v":552.79999999999995},{"$f":"F203/I203*800","v":433.2},null,{"$f":"$E$29","v":0.5}]
[]
[]
["M±SD",1,"入力値",null,null,null,null,null,null,"グラフ出力",null,null,null,null,null,null,null,"入力値",null,null,null,null,null,null,"グラフ出力(左記の入力値を変換)",null,null,null,null,null,null,null,null,"グラフ出力(左記の入力値を変換)"]
["80代",null,"平均","SD","SD上","SD下","cutoff","最大値","最大値","平均","SD上","SD下","cutoff","縦軸",null,"80代",null,"平均","SD","SD上","SD下","cutoff","最大値","最大値","平均","SD上","SD下","cutoff","縦軸",null,"80代",null,"最大値","平均","SD上","SD下","cutoff","縦軸"]
["DigitSpan","forward",{"$f":"C179","v":5.4},{"$f":"D179","v":0.8},{"$f":"IF(C208+($B$206*D208)>H208,H208,C208+($B$206*D208))","v":6.2},{"$f":"IF(C208-($B$206*D208)<0,0,C208-($B$206*D208))","v":4.6000000000000005},{"$f":"IF(G179=\"\",\"\",G179)","v":4},10,10,{"$f":"C208/I208*10","v":5.4},{"$f":"E208/I208*10","v":6.2},{"$f":"F208/I208*10","v":4.6000000000000005},{"$f":"G208/I208*10","v":4},{"$f":"$E$5","v":15.5},null,"CPT2　誤反応","SRT",null,null,{"$f":"IF(R208+($B$206*S208)>W208,W208,R208+($B$206*S208))","v":0},{"$f":"IF(R208-($B$206*S208)<0,0,R208-($B$206*S208))","v":0},4,20,{"$f":"W208","v":20},{"$f":"R208/X208*10","v":0},{"$f":"T208/X208*10","v":0},{"$f":"U208/X208*10","v":0},{"$f":"V208/X208*10","v":2},{"$f":"AC209+1","v":2.5},null,"DigitSpan","forward",{"$f":"I208","v":10},5.4,6.2,4.6000000000000005,4,{"$f":"AL209+1","v":11.5}]
[null,"backward",{"$f":"C180","v":4.0999999999999996},0.9,{"$f":"IF(C209+($B$206*D209)>H209,H209,C209+($B$206*D209))","v":5},{"$f":"IF(C209-($B$206*D209)<0,0,C209-($B$206*D209))","v":3.1999999999999997},{"$f":"IF(G180=\"\",\"\",G180)","v":3},10,10,4.0999999999999996,5,3.1999999999999993,{"$f":"G209/I209*10","v":3},{"$f":"$E$6","v":14.5},null,null,"X",null,null,{"$f":"IF(R209+($B$206*S209)>W209,W209,R209+($B$206*S209))","v":0},{"$f":"IF(R209-($B$206*S209)<0,0,R209-($B$206*S209))","v":0},10,20,{"$f":"W209","v":20},{"$f":"R209/X209*10","v":0},{"$f":"T209/X209*10","v":0},{"$f":"U209/X209*10","v":0},{"$f":"V209/X209*10","v":5},{"$f":"AC210+1","v":1.5},null,null,"backward",10,4.0999999999999996,5,3.1999999999999993,3,10.5]
["Tappimg Span","forward",5.3,0.9,6.2,4.3999999999999995,4,10,10,5.3000000000000007,6.2,4.3999999999999995,{"$f":"G210/I210*10","v":4},{"$f":"$E$7","v":13.5},null,null,"AX",null,null,0,0,11,20,20,0,{"$f":"T210/X210*10","v":0},0,{"$f":"V210/X210*10","v":5.5},0.5,null,"Tappimg Span","forward",10,5.3000000000000007,6.2,4.3999999999999995,4,9.5]
[null,"backward",4.9000000000000004,1.2,6.1000000000000005,3.7,4,10,10,4.9000000000000004,6.1000000000000014,3.7,{"$f":"G211/I211*10","v":4},{"$f":"$E$8","v":12.5},null,"CPT2　正答率","SRT",99.7,0.7,100,99,null,100,100,9.9700000000000006,{"$f":"T211/X211*10","v":10},9.9,null,{"$f":"AC212+1","v":2.5},null,null,"backward",10,4.9000000000000004,6.1000000000000014,3.7,4,8.5]
["VC図形△","VC△ 所要時間",58.4,13.8,72.2,44.599999999999994,"",210,210,2.7809523809523808,3.4380952380952383,2.1238095238095238,null,{"$f":"$E$9","v":11.5},null,null,"X",99.9,0.5,100,99.4,null,100,100,9.990000000000002,10,9.9400000000000013,null,{"$f":"AC213+1","v":1.5},null,"VC図形△","VC△ 正答率",{"$f":"I213","v":100},9.65,10,9.3000000000000007,null,7.5]
[null,"VC△ 正答率",96.5,3.5,100,93,"",100,100,9.65,10,9.3000000000000007,null,{"$f":"$E$10","v":10.5},null,null,"AX",97.9,3.6,100,94.300000000000011,null,100,100,9.7900000000000009,10,9.43,null,0.5,null,null,"VC△ 的中率",100,9.990000000000002,10,9.9400000000000013,null,6.5]
[null,"VC△ 的中率",99.9,0.5,100,99.4,"",100,100,9.990000000000002,10,9.9400000000000013,null,{"$f":"$E$11","v":9.5},null,"CPT2　的中率","SRT",99.8,0.6,100,99.2,null,100,100,9.98,10,9.92,null,{"$f":"AC215+1","v":2.5},null,"VC図形※","VC※ 正答率",{"$f":"I216","v":100},9.91,10,9.7799999999999994,null,5.5]
["VC図形※","VC※ 所要時間",67.400000000000006,16.100000000000001,83.5,51.300000000000004,"",210,210,3.2095238095238097,3.9761904761904758,2.4428571428571431,null,{"$f":"$E$12","v":8.5},null,null,"X",99.3,1.5,100,97.8,null,100,100,9.93,10,9.7799999999999994,null,{"$f":"AC216+1","v":1.5},null,null,"VC※ 的中率",100,10,10,9.9700000000000006,null,4.5]
[null,"VC※ 正答率",99.1,1.3,100,97.8,"",100,100,9.91,10,9.7799999999999994,null,{"$f":"$E$13","v":7.5},null,null,"AX",97.5,2.9,100,94.6,null,100,100,9.75,10,9.4599999999999991,null,0.5,null,"VC 3","VC 3 正答率",{"$f":"I219","v":100},9.85,10,9.6700000000000017,null,3.5]
[null,"VC※ 的中率",100,0.3,100,99.7,"",100,100,10,10,9.9700000000000006,null,{"$f":"$E$14","v":6.5},null,"CPT2\n修正正答率","SRT",99.9,0.4,100,99.5,null,100,100,9.990000000000002,10,9.9499999999999993,null,{"$f":"AC218+1","v":2.5},null,null,"VC 3 的中率",100,10,10,9.98,null,2.5]
["VC 3","VC 3 所要時間",103.7,23.2,126.9,80.5,"",210,210,4.9380952380952383,6.0428571428571427,3.8333333333333335,null,{"$f":"$E$15","v":5.5},null,null,"X",99.7,0.6,100,99.100000000000009,null,100,100,9.9700000000000006,10,9.91,null,{"$f":"AC219+1","v":1.5},null,"VC か","VC か 正答率",{"$f":"I222","v":100},9.5400000000000009,9.91,9.17,null,{"$f":"AL219+1","v":1.5}]
[null,"VC 3 正答率",98.5,1.8,100,96.7,"",100,100,{"$f":"C219/I219*10","v":9.85},{"$f":"E219/I219*10","v":10},{"$f":"F219/I219*10","v":9.6700000000000017},null,{"$f":"$E$16","v":4.5},null,null,"AX",97.6,3.6,100,94,null,100,100,9.76,10,9.3999999999999986,null,0.5,null,null,"VC か 的中率",100,9.98,10,9.92,null,0.5]
[null,"VC 3 的中率",100,0.2,100,99.8,"",100,100,10,10,9.98,null,{"$f":"$E$17","v":3.5},null,"CPT2\n変動係数","SRT",{"$f":"R191","v":16.7},{"$f":"S191","v":6.2},22.9,10.5,null,30,30,5.5666666666666664,7.6333333333333329,3.5,null,{"$f":"AC221+1","v":2.5}]
["VC か","VC か 所要時間",132.30000000000001,24.3,156.60000000000002,108.00000000000001,"",210,210,6.3,7.4571428571428573,5.1428571428571432,null,{"$f":"$E$18","v":2.5},null,null,"X",12.2,2.8,15,9.3999999999999986,null,30,30,4.0666666666666664,5,3.1333333333333329,null,{"$f":"AC222+1","v":1.5},null,"VC\n所要時間","VC△",{"$f":"I215","v":210},{"$f":"J215","v":3.2095238095238097},{"$f":"K215","v":3.9761904761904758},{"$f":"L215","v":2.4428571428571431},null,{"$f":"AL222+1","v":3.5}]
[null,"VC か 正答率",95.4,3.7,99.100000000000009,91.7,"",100,100,9.5400000000000009,9.91,9.17,null,{"$f":"$E$19","v":1.5},null,null,"AX",14.6,4.5,19.100000000000001,10.1,null,30,30,4.8666666666666663,6.3666666666666671,3.3666666666666667,null,0.5,null,null,"VC※",{"$f":"I215","v":210},{"$f":"J215","v":3.2095238095238097},{"$f":"K215","v":3.9761904761904758},{"$f":"L215","v":2.4428571428571431},null,{"$f":"AL223+1","v":2.5}]
[null,"VC か 的中率",99.8,0.6,100,99.2,"",100,100,9.98,10,9.92,null,{"$f":"$E$20","v":0.5},null,null,null,null,null,null,null,null,null,null,null,null,null,null,null,null,null,"VC 3",{"$f":"I218","v":210},{"$f":"J218","v":4.9380952380952383},{"$f":"K218","v":6.0428571428571427},{"$f":"L218","v":3.8333333333333335},null,{"$f":"AL224+1","v":1.5}]
["AD","AD　正答率",96.5,3.6,100,92.9,94,100,100,9.65,10,9.2900000000000009,{"$f":"G224/I224*10","v":9.3999999999999986},{"$f":"$E$21","v":5.5},null,null,null,null,null,null,null,null,null,null,null,null,null,null,null,null,null,"VC か",{"$f":"I221","v":210},{"$f":"J221","v":6.3},{"$f":"K221","v":7.4571428571428573},{"$f":"L221","v":5.1428571428571432},null,0.5]
[null,"AD　的中率",{"$f":"C196","v":67.8},23.2,91,44.599999999999994,"",100,100,6.7799999999999994,9.1,4.4599999999999991,{"$f":"IF(G225=\"\",\"\",G225/I225*10)","v":""},{"$f":"$E$22","v":4.5},null,{"$f":"M224","v":9.3999999999999986},{"$f":"N224","v":5.5}]
["MU正答率","MU 3スパン",71.2,18.2,89.4,53,50,100,100,7.120000000000001,8.94,5.3000000000000007,{"$f":"G226/I226*10","v":5},{"$f":"$E$23","v":3.5},null,{"$f":"M226","v":5},3.5]
[null,"MU 4スパン",49.1,21.8,70.900000000000006,27.3,25,100,100,4.91,7.0900000000000007,2.7300000000000004,{"$f":"G227/I227*10","v":2.5},{"$f":"$E$24","v":2.5},null,2.5,2.5]
["PASAT正答率","PASAT　2秒",49.7,19.600000000000001,69.300000000000011,30.1,30,100,100,4.9700000000000006,6.9300000000000006,3.01,{"$f":"G228/I228*10","v":3},{"$f":"$E$25","v":1.5},null,3,1.5]
[null,"PASAT　1秒",34.5,14.4,48.9,20.100000000000001,17,100,100,3.4499999999999997,4.8899999999999997,2.0100000000000002,{"$f":"G229/I229*10","v":1.7000000000000002},{"$f":"$E$26","v":0.5},null,1.7000000000000002,0.5]
["CPT2","SRT　平均",327.3,36,363.3,291.3,"",800,800,{"$f":"C230/I230*800","v":327.3},{"$f":"E230/I230*800","v":363.3},{"$f":"F230/I230*800","v":291.3},null,{"$f":"$E$27","v":2.5}]
[null,"X　平均",{"$f":"C202","v":493},{"$f":"D202","v":43.3},536.29999999999995,449.7,"",800,800,{"$f":"C231/I231*800","v":493},{"$f":"E231/I231*800","v":536.29999999999995},{"$f":"F231/I231*800","v":449.7},null,{"$f":"$E$28","v":1.5}]
[null,"AX　平均",{"$f":"C203","v":493},{"$f":"D203","v":59.8},552.79999999999995,433.2,"",800,800,{"$f":"C232/I232*800","v":493},{"$f":"E232/I232*800","v":552.79999999999995},{"$f":"F232/I232*800","v":433.2},null,{"$f":"$E$29","v":0.5}]
[null,null,"　※ CPT以外のM,SDは70歳代のデータによる"]